BEGIN:VCALENDAR
VERSION:2.0
PRODID:-//iASK-CAB - ECPv6.15.1.1//NONSGML v1.0//EN
CALSCALE:GREGORIAN
METHOD:PUBLISH
X-WR-CALNAME:iASK-CAB
X-ORIGINAL-URL:https://www.iask-cab.org
X-WR-CALDESC:Events for iASK-CAB
REFRESH-INTERVAL;VALUE=DURATION:PT1H
X-Robots-Tag:noindex
X-PUBLISHED-TTL:PT1H
BEGIN:VTIMEZONE
TZID:America/New_York
BEGIN:DAYLIGHT
TZOFFSETFROM:-0500
TZOFFSETTO:-0400
TZNAME:EDT
DTSTART:20190310T070000
END:DAYLIGHT
BEGIN:STANDARD
TZOFFSETFROM:-0400
TZOFFSETTO:-0500
TZNAME:EST
DTSTART:20191103T060000
END:STANDARD
BEGIN:DAYLIGHT
TZOFFSETFROM:-0500
TZOFFSETTO:-0400
TZNAME:EDT
DTSTART:20200308T070000
END:DAYLIGHT
BEGIN:STANDARD
TZOFFSETFROM:-0400
TZOFFSETTO:-0500
TZNAME:EST
DTSTART:20201101T060000
END:STANDARD
BEGIN:DAYLIGHT
TZOFFSETFROM:-0500
TZOFFSETTO:-0400
TZNAME:EDT
DTSTART:20210314T070000
END:DAYLIGHT
BEGIN:STANDARD
TZOFFSETFROM:-0400
TZOFFSETTO:-0500
TZNAME:EST
DTSTART:20211107T060000
END:STANDARD
BEGIN:DAYLIGHT
TZOFFSETFROM:-0500
TZOFFSETTO:-0400
TZNAME:EDT
DTSTART:20220313T070000
END:DAYLIGHT
BEGIN:STANDARD
TZOFFSETFROM:-0400
TZOFFSETTO:-0500
TZNAME:EST
DTSTART:20221106T060000
END:STANDARD
BEGIN:DAYLIGHT
TZOFFSETFROM:-0500
TZOFFSETTO:-0400
TZNAME:EDT
DTSTART:20230312T070000
END:DAYLIGHT
BEGIN:STANDARD
TZOFFSETFROM:-0400
TZOFFSETTO:-0500
TZNAME:EST
DTSTART:20231105T060000
END:STANDARD
BEGIN:DAYLIGHT
TZOFFSETFROM:-0500
TZOFFSETTO:-0400
TZNAME:EDT
DTSTART:20240310T070000
END:DAYLIGHT
BEGIN:STANDARD
TZOFFSETFROM:-0400
TZOFFSETTO:-0500
TZNAME:EST
DTSTART:20241103T060000
END:STANDARD
BEGIN:DAYLIGHT
TZOFFSETFROM:-0500
TZOFFSETTO:-0400
TZNAME:EDT
DTSTART:20250309T070000
END:DAYLIGHT
BEGIN:STANDARD
TZOFFSETFROM:-0400
TZOFFSETTO:-0500
TZNAME:EST
DTSTART:20251102T060000
END:STANDARD
END:VTIMEZONE
BEGIN:VEVENT
DTSTART;TZID=America/New_York:20250826T130000
DTEND;TZID=America/New_York:20250826T140000
DTSTAMP:20260423T172730
CREATED:20250518T110745Z
LAST-MODIFIED:20250518T111419Z
UID:3000-1756213200-1756216800@www.iask-cab.org
SUMMARY:Talk Early\, Talk Often: Prevent Underage Substance Use
DESCRIPTION:You can be the reason a child never rides with an impaired driver or never drives impaired after they turn 21. Underage drinking and cannabis use are among the most preventable — yet dangerous — risks facing youth today. In this webinar\, Dr. Robert Turrisi from the Pennsylvania State University will share evidence-based strategies from decades of research\, including insights from MADD’s Power of Parents Handbook. You’ll learn how alcohol and cannabis affect the developing brain\, how parenting must evolve as kids grow\, and what truly works to reduce risky behaviors. \nRegister now.
URL:https://www.iask-cab.org/event/talk-early-talk-often-prevent-underage-substance-use/
CATEGORIES:iASK
END:VEVENT
BEGIN:VEVENT
DTSTART;TZID=America/New_York:20250708T133000
DTEND;TZID=America/New_York:20250708T143000
DTSTAMP:20260423T172730
CREATED:20250501T015934Z
LAST-MODIFIED:20250501T015934Z
UID:2997-1751981400-1751985000@www.iask-cab.org
SUMMARY:Helping Youth Heal: Support Through Family Addiction\, Trauma & Stress
DESCRIPTION:When children experience trauma—whether from addiction in the family or other stressors—their nervous systems adapt in ways that can disrupt emotional regulation and development. Adverse Childhood Experiences (ACEs) can have long-lasting effects\, but there are ways to help children heal. In this webinar\, author Trish Luna shares how Lambi Learns About Addiction uses evidence-based practices to help children build emotional awareness\, resilience\, and self-regulation skills. Grounded in neuroscience and trauma-informed care\, the webinar introduces tools like mindful breathing and grounding techniques to support healthy brain development and healing. Parents\, educators\, and mental health professionals will gain practical insights for helping children thrive in the face of adversity. Register now.
URL:https://www.iask-cab.org/event/helping-youth-heal-support-through-family-addiction-trauma-stress/
CATEGORIES:iASK
END:VEVENT
BEGIN:VEVENT
DTSTART;TZID=America/New_York:20250603T130000
DTEND;TZID=America/New_York:20250603T140000
DTSTAMP:20260423T172730
CREATED:20250501T015803Z
LAST-MODIFIED:20250501T015803Z
UID:2995-1748955600-1748959200@www.iask-cab.org
SUMMARY:Real Talk About Youth Substance Use & Intervention
DESCRIPTION:Learn why kids and teens take risks\, how scare tactics and punishments often fail\, and what parents\, schools\, and communities can do instead. This webinar will give you practical\, science-based strategies to help young people make healthier choices while also addressing their mental health and well-being. Register now.
URL:https://www.iask-cab.org/event/real-talk-about-youth-substance-use-intervention/
CATEGORIES:iASK
END:VEVENT
BEGIN:VEVENT
DTSTART;TZID=America/New_York:20250515T183000
DTEND;TZID=America/New_York:20250515T200000
DTSTAMP:20260423T172730
CREATED:20250501T015715Z
LAST-MODIFIED:20250501T015715Z
UID:2993-1747333800-1747339200@www.iask-cab.org
SUMMARY:Virtual Overdose Prevention Training
DESCRIPTION:Virtual Zoom training on the third Thursday of every month at 6:30 p.m. Free training: Following training\, participants receive a kit by mail. Register now: ssal@drugcrisisinourbackyard.com
URL:https://www.iask-cab.org/event/virtual-overdose-prevention-training-13/
CATEGORIES:iASK
END:VEVENT
BEGIN:VEVENT
DTSTART;TZID=America/New_York:20250506T130000
DTEND;TZID=America/New_York:20250506T140000
DTSTAMP:20260423T172730
CREATED:20250501T015607Z
LAST-MODIFIED:20250501T015607Z
UID:2991-1746536400-1746540000@www.iask-cab.org
SUMMARY:Parenting in an Addictive World: When to Step In and Help
DESCRIPTION:Parenting in today’s world means navigating a minefield of addictive temptations—social media\, pornography\, and substances can pull kids in before they even realize what’s happening. So how do you know when to step in\, and how can you help without pushing them away? Register now.
URL:https://www.iask-cab.org/event/parenting-in-an-addictive-world-when-to-step-in-and-help/
CATEGORIES:iASK
END:VEVENT
BEGIN:VEVENT
DTSTART;TZID=America/New_York:20250320T183000
DTEND;TZID=America/New_York:20250320T200000
DTSTAMP:20260423T172730
CREATED:20250215T121632Z
LAST-MODIFIED:20250215T121632Z
UID:2969-1742495400-1742500800@www.iask-cab.org
SUMMARY:Virtual Overdose Prevention Training
DESCRIPTION:Virtual Zoom training on the third Thursday of every month at 6:30 p.m. Free training: Following training\, participants receive a kit by mail. Register now: ssal@drugcrisisinourbackyard.com
URL:https://www.iask-cab.org/event/virtual-overdose-prevention-training-11/
CATEGORIES:iASK
END:VEVENT
BEGIN:VEVENT
DTSTART;TZID=America/New_York:20250122T190000
DTEND;TZID=America/New_York:20250122T200000
DTSTAMP:20260423T172730
CREATED:20241024T101753Z
LAST-MODIFIED:20241024T101753Z
UID:2938-1737572400-1737576000@www.iask-cab.org
SUMMARY:K.N.O.W. 2 Prevent: Teen Mental Health
DESCRIPTION:We are in the midst of a youth mental health crisis with teens increasingly reporting persistent feelings of sadness and hopelessness\, along with increased suicide rates. Factors contributing to this crisis include the negative effects of social media\, increased academic pressure\, childhood trauma\, alcohol and substance use\, and social isolation. \nThe good news is\, research shows parents and caregivers can make a difference. Whether your teen is experiencing typical challenges\, an uptick in stress from significant setbacks\, or a serious mental health condition\, parents help their child enormously when they provide security\, maintain a calm and positive relating approach\, and practice effective problem-solving strategies. \nThis presentation will help you navigate the challenges of managing boundaries and policies regarding sleep\, substance use\, media\, and other health-related routines\, without sacrificing a warm and loving relationship and while granting developmentally-appropriate autonomy. \nRegister now.
URL:https://www.iask-cab.org/event/k-n-o-w-2-prevent-teen-mental-health/
CATEGORIES:iASK
END:VEVENT
BEGIN:VEVENT
DTSTART;TZID=America/New_York:20250116T183000
DTEND;TZID=America/New_York:20250116T200000
DTSTAMP:20260423T172730
CREATED:20241226T112503Z
LAST-MODIFIED:20241226T112503Z
UID:2954-1737052200-1737057600@www.iask-cab.org
SUMMARY:Virtual Overdose Prevention Training
DESCRIPTION:Virtual Zoom training on the third Thursday of every month at 6:30 p.m. Free training: Following training\, participants receive a kit by mail. Register now: ssal@drugcrisisinourbackyard.com
URL:https://www.iask-cab.org/event/virtual-overdose-prevention-training-9/
CATEGORIES:iASK
END:VEVENT
BEGIN:VEVENT
DTSTART;TZID=America/New_York:20241211T130000
DTEND;TZID=America/New_York:20241211T140000
DTSTAMP:20260423T172730
CREATED:20241024T101544Z
LAST-MODIFIED:20241024T101544Z
UID:2936-1733922000-1733925600@www.iask-cab.org
SUMMARY:Operation Parent: Prevention Science in Action: Supporting Families & Schools in Raising Healthy Kids
DESCRIPTION:Operation Parent presents this webinar to introduce practical strategies to guide young people toward healthier choices. Learn age-appropriate ways to help students build confidence\, resist peer pressure\, and avoid high-risk behaviors. Register now.
URL:https://www.iask-cab.org/event/operation-parent-prevention-science-in-action-supporting-families-schools-in-raising-healthy-kids/
CATEGORIES:iASK
END:VEVENT
BEGIN:VEVENT
DTSTART;TZID=America/New_York:20241112T130000
DTEND;TZID=America/New_York:20241112T140000
DTSTAMP:20260423T172730
CREATED:20241024T101449Z
LAST-MODIFIED:20241024T101449Z
UID:2934-1731416400-1731420000@www.iask-cab.org
SUMMARY:Operation Parent: Safe Roads Ahead
DESCRIPTION:How to discuss safe driving with children and teens. Register now.
URL:https://www.iask-cab.org/event/operation-parent-safe-roads-ahead/
CATEGORIES:iASK
END:VEVENT
BEGIN:VEVENT
DTSTART;TZID=America/New_York:20241008T190000
DTEND;TZID=America/New_York:20241008T203000
DTSTAMP:20260423T172730
CREATED:20240922T112440Z
LAST-MODIFIED:20240922T112440Z
UID:2926-1728414000-1728419400@www.iask-cab.org
SUMMARY:K.N.O.W. 2 Prevent - Screen Smart Parenting
DESCRIPTION:K.N.O.W. 2 Prevent presents Adam Pletter\, PsyD to discuss actionable tips for fostering a healthy relationship with technology\, raising healthy\, safe\, and resilient children in today’s digital world. Register here.
URL:https://www.iask-cab.org/event/k-n-o-w-2-prevent-screen-smart-parenting/
CATEGORIES:iASK,Local Trainings & Workshops
END:VEVENT
BEGIN:VEVENT
DTSTART;TZID=America/New_York:20240718T183000
DTEND;TZID=America/New_York:20240718T200000
DTSTAMP:20260423T172730
CREATED:20240704T172312Z
LAST-MODIFIED:20240704T172312Z
UID:2908-1721327400-1721332800@www.iask-cab.org
SUMMARY:Virtual Overdose Prevention Training
DESCRIPTION:Virtual Zoom training on the third Thursday of every month at 6:30 p.m. Free training: Following training\, participants receive a kit by mail. Register now: ssal@drugcrisisinourbackyard.com
URL:https://www.iask-cab.org/event/virtual-overdose-prevention-training-7/
CATEGORIES:iASK
END:VEVENT
BEGIN:VEVENT
DTSTART;TZID=America/New_York:20240124T190000
DTEND;TZID=America/New_York:20240124T200000
DTSTAMP:20260423T172730
CREATED:20240122T202754Z
LAST-MODIFIED:20240122T202754Z
UID:2837-1706122800-1706126400@www.iask-cab.org
SUMMARY:Youth Drug and Alcohol Use: An Irvington Perspective 2024
DESCRIPTION:
URL:https://www.iask-cab.org/event/youth-drug-and-alcohol-use-an-irvington-perspective-2024/
LOCATION:Irvington Library\, 12 S Astor Street\, Irvington\, NY\, 10533
CATEGORIES:iASK
END:VEVENT
BEGIN:VEVENT
DTSTART;TZID=America/New_York:20230422T080000
DTEND;TZID=America/New_York:20230422T120000
DTSTAMP:20260423T172730
CREATED:20230419T094044Z
LAST-MODIFIED:20230419T094044Z
UID:2713-1682150400-1682164800@www.iask-cab.org
SUMMARY:Rx Drug Disposal
DESCRIPTION:
URL:https://www.iask-cab.org/event/rx-drug-disposal-3/
LOCATION:Town Hall\, United States
CATEGORIES:iASK
ORGANIZER;CN="iASK CAB":MAILTO:info@iask-cab.org
END:VEVENT
BEGIN:VEVENT
DTSTART;TZID=America/New_York:20220202T190000
DTEND;TZID=America/New_York:20220202T203000
DTSTAMP:20260423T172730
CREATED:20211215T010138Z
LAST-MODIFIED:20211215T010605Z
UID:2518-1643828400-1643833800@www.iask-cab.org
SUMMARY:Youth Drug and Alcohol Use: An Irvington Perspective 2022
DESCRIPTION:Join the Irvington About Safe Kids – Community Advisory Board coalition for a presentation of Irvington student survey results investigating drug and alcohol use and perceptions among our youth. In conjunction\, a panel of local experts will discuss associated social\, legal\, mental health and medical concerns. \nRegister now.
URL:https://www.iask-cab.org/event/youth-drug-and-alcohol-use-an-irvington-perspective-2022/
CATEGORIES:iASK
ORGANIZER;CN="iASK CAB":MAILTO:info@iask-cab.org
END:VEVENT
BEGIN:VEVENT
DTSTART;TZID=America/New_York:20211028T190000
DTEND;TZID=America/New_York:20211028T203000
DTSTAMP:20260423T172730
CREATED:20211020T145335Z
LAST-MODIFIED:20211020T145335Z
UID:2461-1635447600-1635453000@www.iask-cab.org
SUMMARY:K.N.O.W. 2 Prevent - The Gift of Failure: Parenting and Wellness
DESCRIPTION:All parents and adult community members are invited to join K.N.O.W. 2 Prevent for an insightful presentation by Jessica Lahey\, author of the NY Time best-selling book\, The Gift of Failure: How the Best Parents Let Go So Their Children Can Succeed and The Addiction Inoculation: Raising Healthy Kids in a Culture of Dependence. Ms. Lahey will cover parenting topics from both books\, including homework\, social dynamics\, competitive sports\, and substance use prevention. Join us as we kick off our 2021-22 season!
URL:https://www.iask-cab.org/event/k-n-o-w-2-prevent-the-gift-of-failure-parenting-and-wellness/
CATEGORIES:iASK,Local Trainings & Workshops
END:VEVENT
BEGIN:VEVENT
DTSTART;TZID=America/New_York:20210424T100000
DTEND;TZID=America/New_York:20210424T140000
DTSTAMP:20260423T172730
CREATED:20210413T105228Z
LAST-MODIFIED:20210413T105228Z
UID:2369-1619258400-1619272800@www.iask-cab.org
SUMMARY:Rx Drug Disposal
DESCRIPTION:
URL:https://www.iask-cab.org/event/rx-drug-disposal/
LOCATION:Town Hall\, United States
CATEGORIES:iASK
ORGANIZER;CN="iASK CAB":MAILTO:info@iask-cab.org
END:VEVENT
BEGIN:VEVENT
DTSTART;TZID=America/New_York:20200923T190000
DTEND;TZID=America/New_York:20200923T203000
DTSTAMP:20260423T172730
CREATED:20200921T012411Z
LAST-MODIFIED:20200921T012411Z
UID:2280-1600887600-1600893000@www.iask-cab.org
SUMMARY:K.N.O.W. 2 Prevent - Helping Kids Today Become Successful Adults Tomorrow
DESCRIPTION:As parents\, teachers and other caring adults in the lives of kids\, we all want the same thing: to see them happy\, self-confident and ready for the adult world. Using humorous and touching stories from more than two decades working with at-risk youth and their families – plus his own challenges as a struggling teen – Joshua gives attendees the essential tools they need to help them make that a reality for the children in their lives. \n \nRegister now.
URL:https://www.iask-cab.org/event/k-n-o-w-2-prevent-helping-kids-today-become-successful-adults-tomorrow/
CATEGORIES:iASK
END:VEVENT
BEGIN:VEVENT
DTSTART;TZID=America/New_York:20200226T190000
DTEND;TZID=America/New_York:20200226T203000
DTSTAMP:20260423T172730
CREATED:20200204T220619Z
LAST-MODIFIED:20200204T222012Z
UID:1985-1582743600-1582749000@www.iask-cab.org
SUMMARY:The Impact of Substance Use on Academic Performance
DESCRIPTION:Dr. Amelia Arria is a widely recognized expert in substance abuse and mental health. In this presentation\, she will discuss her recent work on the impact of substance use\, particularly excessive drinking and marijuana use\, on academic achievement. \n  \nRegister now.
URL:https://www.iask-cab.org/event/the-impact-of-substance-use-on-academic-performance/
LOCATION:Irvington Library\, 12 S Astor Street\, Irvington\, NY\, 10533
CATEGORIES:iASK
ORGANIZER;CN="iASK CAB":MAILTO:info@iask-cab.org
END:VEVENT
BEGIN:VEVENT
DTSTART;TZID=America/New_York:20191120T183000
DTEND;TZID=America/New_York:20191120T203000
DTSTAMP:20260423T172730
CREATED:20191111T005304Z
LAST-MODIFIED:20191120T132936Z
UID:1953-1574274600-1574281800@www.iask-cab.org
SUMMARY:What Every Parent Should Know
DESCRIPTION:Register now.\n**Please note that there has been a location change! The presentation is being moved to the Campus Presentation Room (CPR) at the high school. We look forward to seeing you!
URL:https://www.iask-cab.org/event/what-every-parent-should-know/
LOCATION:Irvington High School Theater\, 40 North Broadway\, Irvington\, New York\, 10533
CATEGORIES:iASK
ORGANIZER;CN="iASK CAB":MAILTO:info@iask-cab.org
END:VEVENT
BEGIN:VEVENT
DTSTART;TZID=America/New_York:20191030T190000
DTEND;TZID=America/New_York:20191030T203000
DTSTAMP:20260423T172730
CREATED:20191016T221522Z
LAST-MODIFIED:20191016T221522Z
UID:1926-1572462000-1572467400@www.iask-cab.org
SUMMARY:Drugs and Alcohol Use: An Irvington Perspective 2019
DESCRIPTION:
URL:https://www.iask-cab.org/event/drugs-and-alcohol-use-an-irvington-perspective-2019/
LOCATION:Irvington Town Hall Theater\, 85 Main St.\, Irvington \, NY\, 10533\, United States
CATEGORIES:iASK
ORGANIZER;CN="iASK CAB":MAILTO:info@iask-cab.org
END:VEVENT
BEGIN:VEVENT
DTSTART;VALUE=DATE:20191026
DTEND;VALUE=DATE:20191027
DTSTAMP:20260423T172730
CREATED:20191006T123750Z
LAST-MODIFIED:20191006T124720Z
UID:1919-1572048000-1572134399@www.iask-cab.org
SUMMARY:National Prescription Drug Take Back Day
DESCRIPTION:DEA’s National Prescription Drug Take Back Day is right around the corner on Saturday\, October 26th from 10am to 2pm\, so save the date and mark your calendar!\n\nDFC coalitions have repeatedly shown that preventing drug use before it begins\, particularly among young people\, is the most cost effective way to reduce drug use and its consequences.\n\nIn fact\, according to the 2018 DFC National Evaluation End-of-Year Report\, almost all DFC coalitions (96%) reported having a prescription take back program or event in their communities.  Take Back Day events provide a safe\, convenient\, and responsible means of disposing unused or expired prescription drugs\, while also educating the general public about the potential for abuse of medications.\n\nThe DEA reports that during the last Take Back Day in April they collected 468 tons of unused or expired prescription medication.  This brings the total amount of prescription drugs collected by DEA since the fall of 2010 to 11\,816\,393 pounds.\n\nUnable to attend?
URL:https://www.iask-cab.org/event/national-prescription-drug-take-back-day/
LOCATION:Irvington Police Department\, 85 Main St.\, Irvington \, New York
CATEGORIES:iASK
ORGANIZER;CN="iASK CAB":MAILTO:info@iask-cab.org
END:VEVENT
BEGIN:VEVENT
DTSTART;TZID=America/New_York:20190618T080000
DTEND;TZID=America/New_York:20190618T090000
DTSTAMP:20260423T172730
CREATED:20180922T134815Z
LAST-MODIFIED:20180929T191305Z
UID:1507-1560844800-1560848400@www.iask-cab.org
SUMMARY:iASK Board Meeting
DESCRIPTION:For more information\, contact info@iASK-CAB.org.
URL:https://www.iask-cab.org/event/iask-meeting-10/
CATEGORIES:iASK
ORGANIZER;CN="iASK CAB":MAILTO:info@iask-cab.org
END:VEVENT
BEGIN:VEVENT
DTSTART;TZID=America/New_York:20190521T080000
DTEND;TZID=America/New_York:20190521T090000
DTSTAMP:20260423T172730
CREATED:20180922T134735Z
LAST-MODIFIED:20180929T191312Z
UID:1505-1558425600-1558429200@www.iask-cab.org
SUMMARY:iASK Board Meeting
DESCRIPTION:For more information\, contact info@iASK-CAB.org.
URL:https://www.iask-cab.org/event/iask-meeting-9/
CATEGORIES:iASK
ORGANIZER;CN="iASK CAB":MAILTO:info@iask-cab.org
END:VEVENT
BEGIN:VEVENT
DTSTART;TZID=America/New_York:20190427T100000
DTEND;TZID=America/New_York:20190427T140000
DTSTAMP:20260423T172730
CREATED:20180913T014326Z
LAST-MODIFIED:20180913T014326Z
UID:1466-1556359200-1556373600@www.iask-cab.org
SUMMARY:Rx Drug Take Back
DESCRIPTION:
URL:https://www.iask-cab.org/event/rx-drug-take-back-3/
LOCATION:Town Hall\, United States
CATEGORIES:iASK
ORGANIZER;CN="iASK CAB":MAILTO:info@iask-cab.org
END:VEVENT
BEGIN:VEVENT
DTSTART;TZID=America/New_York:20190423T080000
DTEND;TZID=America/New_York:20190423T090000
DTSTAMP:20260423T172730
CREATED:20180922T134653Z
LAST-MODIFIED:20180929T191319Z
UID:1503-1556006400-1556010000@www.iask-cab.org
SUMMARY:iASK Board Meeting
DESCRIPTION:For more information\, contact info@iASK-CAB.org.
URL:https://www.iask-cab.org/event/iask-meeting-8/
CATEGORIES:iASK
ORGANIZER;CN="iASK CAB":MAILTO:info@iask-cab.org
END:VEVENT
BEGIN:VEVENT
DTSTART;VALUE=DATE:20190409
DTEND;VALUE=DATE:20190410
DTSTAMP:20260423T172730
CREATED:20190130T140747Z
LAST-MODIFIED:20190130T140747Z
UID:1742-1554768000-1554854399@www.iask-cab.org
SUMMARY:Choose to Be Your Best Self: Dr. Mykee Fowlin
DESCRIPTION:Dr. Mykee Fowlin teaches teens that\, “you don’t know me until you know me”\, helping to turn hurt into self-reflection. (For students only.)
URL:https://www.iask-cab.org/event/choose-to-be-your-best-self-dr-mykee-fowlin/
CATEGORIES:iASK
ORGANIZER;CN="iASK CAB":MAILTO:info@iask-cab.org
END:VEVENT
BEGIN:VEVENT
DTSTART;VALUE=DATE:20190326
DTEND;VALUE=DATE:20190328
DTSTAMP:20260423T172730
CREATED:20190130T140602Z
LAST-MODIFIED:20190301T232801Z
UID:1740-1553558400-1553731199@www.iask-cab.org
SUMMARY:Choose to Be Your Best Self: Dr. Stephen Dewey
DESCRIPTION:Dr. Stephen Dewey presents the latest research on adolescent brain and biological effects of using alcohol and drugs. (Register now for March 26th!) \n \n  \n 
URL:https://www.iask-cab.org/event/choose-to-be-your-best-self-dr-stephen-dewey/
CATEGORIES:iASK
ORGANIZER;CN="iASK CAB":MAILTO:info@iask-cab.org
END:VEVENT
BEGIN:VEVENT
DTSTART;TZID=America/New_York:20190319T080000
DTEND;TZID=America/New_York:20190319T090000
DTSTAMP:20260423T172730
CREATED:20180922T134611Z
LAST-MODIFIED:20180929T191327Z
UID:1501-1552982400-1552986000@www.iask-cab.org
SUMMARY:iASK Board Meeting
DESCRIPTION:For more information\, contact info@iASK-CAB.org.
URL:https://www.iask-cab.org/event/iask-meeting-7/
CATEGORIES:iASK
ORGANIZER;CN="iASK CAB":MAILTO:info@iask-cab.org
END:VEVENT
BEGIN:VEVENT
DTSTART;VALUE=DATE:20190228
DTEND;VALUE=DATE:20190301
DTSTAMP:20260423T172730
CREATED:20190130T140431Z
LAST-MODIFIED:20190130T140431Z
UID:1738-1551312000-1551398399@www.iask-cab.org
SUMMARY:Choose to Be Your Best Self: Shaun Derik
DESCRIPTION:Shaun Derik delivers a dynamic message\, encouraging students to “use your inside voice”. (For students only.)
URL:https://www.iask-cab.org/event/choose-to-be-your-best-self-shaun-derik/
CATEGORIES:iASK
ORGANIZER;CN="iASK CAB":MAILTO:info@iask-cab.org
END:VEVENT
END:VCALENDAR