BEGIN:VCALENDAR
VERSION:2.0
PRODID:-//iASK-CAB - ECPv6.15.1.1//NONSGML v1.0//EN
CALSCALE:GREGORIAN
METHOD:PUBLISH
X-WR-CALNAME:iASK-CAB
X-ORIGINAL-URL:https://www.iask-cab.org
X-WR-CALDESC:Events for iASK-CAB
REFRESH-INTERVAL;VALUE=DURATION:PT1H
X-Robots-Tag:noindex
X-PUBLISHED-TTL:PT1H
BEGIN:VTIMEZONE
TZID:America/New_York
BEGIN:DAYLIGHT
TZOFFSETFROM:-0500
TZOFFSETTO:-0400
TZNAME:EDT
DTSTART:20240310T070000
END:DAYLIGHT
BEGIN:STANDARD
TZOFFSETFROM:-0400
TZOFFSETTO:-0500
TZNAME:EST
DTSTART:20241103T060000
END:STANDARD
BEGIN:DAYLIGHT
TZOFFSETFROM:-0500
TZOFFSETTO:-0400
TZNAME:EDT
DTSTART:20250309T070000
END:DAYLIGHT
BEGIN:STANDARD
TZOFFSETFROM:-0400
TZOFFSETTO:-0500
TZNAME:EST
DTSTART:20251102T060000
END:STANDARD
END:VTIMEZONE
BEGIN:VEVENT
DTSTART;TZID=America/New_York:20250909T130000
DTEND;TZID=America/New_York:20250909T140000
DTSTAMP:20260425T062015
CREATED:20250825T120033Z
LAST-MODIFIED:20250825T120033Z
UID:3006-1757422800-1757426400@www.iask-cab.org
SUMMARY:Breaking the Silence: Talking Mental Health with Your Kids & Teens
DESCRIPTION:In partnership with Minding Your Mind and Operation Parent\, this webinar offers a powerful combination of clinical expertise and lived experience to help adults better understand youth mental health. Register here.
URL:https://www.iask-cab.org/event/breaking-the-silence-talking-mental-health-with-your-kids-teens/
CATEGORIES:Local Trainings & Workshops
END:VEVENT
BEGIN:VEVENT
DTSTART;TZID=America/New_York:20250826T130000
DTEND;TZID=America/New_York:20250826T140000
DTSTAMP:20260425T062015
CREATED:20250518T110745Z
LAST-MODIFIED:20250518T111419Z
UID:3000-1756213200-1756216800@www.iask-cab.org
SUMMARY:Talk Early\, Talk Often: Prevent Underage Substance Use
DESCRIPTION:You can be the reason a child never rides with an impaired driver or never drives impaired after they turn 21. Underage drinking and cannabis use are among the most preventable — yet dangerous — risks facing youth today. In this webinar\, Dr. Robert Turrisi from the Pennsylvania State University will share evidence-based strategies from decades of research\, including insights from MADD’s Power of Parents Handbook. You’ll learn how alcohol and cannabis affect the developing brain\, how parenting must evolve as kids grow\, and what truly works to reduce risky behaviors. \nRegister now.
URL:https://www.iask-cab.org/event/talk-early-talk-often-prevent-underage-substance-use/
CATEGORIES:iASK
END:VEVENT
BEGIN:VEVENT
DTSTART;TZID=America/New_York:20250708T133000
DTEND;TZID=America/New_York:20250708T143000
DTSTAMP:20260425T062015
CREATED:20250501T015934Z
LAST-MODIFIED:20250501T015934Z
UID:2997-1751981400-1751985000@www.iask-cab.org
SUMMARY:Helping Youth Heal: Support Through Family Addiction\, Trauma & Stress
DESCRIPTION:When children experience trauma—whether from addiction in the family or other stressors—their nervous systems adapt in ways that can disrupt emotional regulation and development. Adverse Childhood Experiences (ACEs) can have long-lasting effects\, but there are ways to help children heal. In this webinar\, author Trish Luna shares how Lambi Learns About Addiction uses evidence-based practices to help children build emotional awareness\, resilience\, and self-regulation skills. Grounded in neuroscience and trauma-informed care\, the webinar introduces tools like mindful breathing and grounding techniques to support healthy brain development and healing. Parents\, educators\, and mental health professionals will gain practical insights for helping children thrive in the face of adversity. Register now.
URL:https://www.iask-cab.org/event/helping-youth-heal-support-through-family-addiction-trauma-stress/
CATEGORIES:iASK
END:VEVENT
BEGIN:VEVENT
DTSTART;TZID=America/New_York:20250603T130000
DTEND;TZID=America/New_York:20250603T140000
DTSTAMP:20260425T062015
CREATED:20250501T015803Z
LAST-MODIFIED:20250501T015803Z
UID:2995-1748955600-1748959200@www.iask-cab.org
SUMMARY:Real Talk About Youth Substance Use & Intervention
DESCRIPTION:Learn why kids and teens take risks\, how scare tactics and punishments often fail\, and what parents\, schools\, and communities can do instead. This webinar will give you practical\, science-based strategies to help young people make healthier choices while also addressing their mental health and well-being. Register now.
URL:https://www.iask-cab.org/event/real-talk-about-youth-substance-use-intervention/
CATEGORIES:iASK
END:VEVENT
BEGIN:VEVENT
DTSTART;TZID=America/New_York:20250515T183000
DTEND;TZID=America/New_York:20250515T200000
DTSTAMP:20260425T062015
CREATED:20250501T015715Z
LAST-MODIFIED:20250501T015715Z
UID:2993-1747333800-1747339200@www.iask-cab.org
SUMMARY:Virtual Overdose Prevention Training
DESCRIPTION:Virtual Zoom training on the third Thursday of every month at 6:30 p.m. Free training: Following training\, participants receive a kit by mail. Register now: ssal@drugcrisisinourbackyard.com
URL:https://www.iask-cab.org/event/virtual-overdose-prevention-training-13/
CATEGORIES:iASK
END:VEVENT
BEGIN:VEVENT
DTSTART;TZID=America/New_York:20250506T130000
DTEND;TZID=America/New_York:20250506T140000
DTSTAMP:20260425T062015
CREATED:20250501T015607Z
LAST-MODIFIED:20250501T015607Z
UID:2991-1746536400-1746540000@www.iask-cab.org
SUMMARY:Parenting in an Addictive World: When to Step In and Help
DESCRIPTION:Parenting in today’s world means navigating a minefield of addictive temptations—social media\, pornography\, and substances can pull kids in before they even realize what’s happening. So how do you know when to step in\, and how can you help without pushing them away? Register now.
URL:https://www.iask-cab.org/event/parenting-in-an-addictive-world-when-to-step-in-and-help/
CATEGORIES:iASK
END:VEVENT
BEGIN:VEVENT
DTSTART;TZID=America/New_York:20250421T080000
DTEND;TZID=America/New_York:20250421T170000
DTSTAMP:20260425T062015
CREATED:20250328T175048Z
LAST-MODIFIED:20250328T175048Z
UID:2987-1745222400-1745254800@www.iask-cab.org
SUMMARY:Talking to Children About Alcohol & Substance Use in the Family
DESCRIPTION:Having a loved one with alcohol or drug dependency affects everyone in the family and can be especially confusing for children. Learn how to talk about caregiver/relative substance and alcohol use with kids\, how to tailor the discussion to the child’s developmental stage\, and how to create a supportive environment where children feel safe to express their concerns and ask questions. Register here. \n 
URL:https://www.iask-cab.org/event/talking-to-children-about-alcohol-substance-use-in-the-family/
CATEGORIES:Local Trainings & Workshops
END:VEVENT
BEGIN:VEVENT
DTSTART;TZID=America/New_York:20250417T183000
DTEND;TZID=America/New_York:20250417T200000
DTSTAMP:20260425T062015
CREATED:20250328T175013Z
LAST-MODIFIED:20250328T175013Z
UID:2985-1744914600-1744920000@www.iask-cab.org
SUMMARY:Virtual Overdose Prevention Training
DESCRIPTION:Virtual Zoom training on the third Thursday of every month at 6:30 p.m. Free training: Following training\, participants receive a kit by mail. Register now: ssal@drugcrisisinourbackyard.com
URL:https://www.iask-cab.org/event/virtual-overdose-prevention-training-12/
CATEGORIES:Local Trainings & Workshops
END:VEVENT
BEGIN:VEVENT
DTSTART;TZID=America/New_York:20250415T080000
DTEND;TZID=America/New_York:20250415T170000
DTSTAMP:20260425T062015
CREATED:20250328T174929Z
LAST-MODIFIED:20250328T174929Z
UID:2983-1744704000-1744736400@www.iask-cab.org
SUMMARY:Responding in a Mental Health Emergency
DESCRIPTION:We know what to do when someone breaks their arm: brace it and go to the hospital. But what should you do when someone is experiencing a mental health emergency? Learn what causes crisis situations and the warning signs\, how to respond\, and what to do once the crisis has ended. Register here.
URL:https://www.iask-cab.org/event/responding-in-a-mental-health-emergency/
CATEGORIES:Local Trainings & Workshops
END:VEVENT
BEGIN:VEVENT
DTSTART;TZID=America/New_York:20250409T080000
DTEND;TZID=America/New_York:20250409T170000
DTSTAMP:20260425T062015
CREATED:20250328T174856Z
LAST-MODIFIED:20250328T174856Z
UID:2981-1744185600-1744218000@www.iask-cab.org
SUMMARY:Cannabis and Mental Health
DESCRIPTION:With expanded legalization and use of cannabis\, it is crucial to explore the potential impacts it can have on mental well-being. This webinar provides evidence-based insights to promote a better understanding of the topic. Register here. \n 
URL:https://www.iask-cab.org/event/cannabis-and-mental-health/
END:VEVENT
BEGIN:VEVENT
DTSTART;TZID=America/New_York:20250409T080000
DTEND;TZID=America/New_York:20250409T170000
DTSTAMP:20260425T062015
CREATED:20250328T174824Z
LAST-MODIFIED:20250328T174824Z
UID:2979-1744185600-1744218000@www.iask-cab.org
SUMMARY:Empowering Families: Navigating Co-Occurring Disorders for a Resilient Future  
DESCRIPTION:This presentation will highlight the power of prevention and early identification\, exploring the three pathways to COD\, along with risk and protective factors. Participants will also gain insights on recognizing early signs and being proactive in getting support. Hosted by K.N.O.W. 2 Prevent and presented by Stephanie Marquesano\, founder of The Harris Project and Lorena Rucaj\, LMHC and Westchester County Encompass Coordinator. Register here.
URL:https://www.iask-cab.org/event/empowering-families-navigating-co-occurring-disorders-for-a-resilient-future/
CATEGORIES:Local Trainings & Workshops
END:VEVENT
BEGIN:VEVENT
DTSTART;TZID=America/New_York:20250408T120000
DTEND;TZID=America/New_York:20250408T130000
DTSTAMP:20260425T062015
CREATED:20250215T121823Z
LAST-MODIFIED:20250215T121823Z
UID:2971-1744113600-1744117200@www.iask-cab.org
SUMMARY:Webinar: Launch\, Don’t Crash: Tips to Help them Fly the Nest
DESCRIPTION:From managing anxiety and homesickness to improving sleep\, brain health\, and understanding the risks of drugs and alcohol\, this session will provide parents with practical strategies to start now—so when the time comes to fly the nest\, they’re prepared to soar. Register now.
URL:https://www.iask-cab.org/event/webinar-launch-dont-crash-tips-to-help-them-fly-the-nest/
CATEGORIES:Local Trainings & Workshops
END:VEVENT
BEGIN:VEVENT
DTSTART;TZID=America/New_York:20250320T183000
DTEND;TZID=America/New_York:20250320T200000
DTSTAMP:20260425T062015
CREATED:20250215T121632Z
LAST-MODIFIED:20250215T121632Z
UID:2969-1742495400-1742500800@www.iask-cab.org
SUMMARY:Virtual Overdose Prevention Training
DESCRIPTION:Virtual Zoom training on the third Thursday of every month at 6:30 p.m. Free training: Following training\, participants receive a kit by mail. Register now: ssal@drugcrisisinourbackyard.com
URL:https://www.iask-cab.org/event/virtual-overdose-prevention-training-11/
CATEGORIES:iASK
END:VEVENT
BEGIN:VEVENT
DTSTART;TZID=America/New_York:20250304T130000
DTEND;TZID=America/New_York:20250304T140000
DTSTAMP:20260425T062015
CREATED:20250126T111804Z
LAST-MODIFIED:20250126T111804Z
UID:2965-1741093200-1741096800@www.iask-cab.org
SUMMARY:Webinar: Unpacking the Risks of Modern Marijuana
DESCRIPTION:Laura Stack\, founder of Johnny’s Ambassadors\, shares her powerful personal story of loss and sheds light on how high-THC marijuana can lead to addiction\, anxiety\, psychosis\, and even suicide. Backed by science and her own experience\, Laura’s heartfelt presentation will empower parents to understand the risks and start essential conversations with their kids. Register now.
URL:https://www.iask-cab.org/event/webinar-unpacking-the-risks-of-modern-marijuana/
END:VEVENT
BEGIN:VEVENT
DTSTART;TZID=America/New_York:20250302T080000
DTEND;TZID=America/New_York:20250302T170000
DTSTAMP:20260425T062015
CREATED:20250126T111715Z
LAST-MODIFIED:20250126T111715Z
UID:2963-1740902400-1740934800@www.iask-cab.org
SUMMARY:Adult Mental Health First Aid Training
DESCRIPTION:Mental Health First Aid is a course that teaches you how to identify\, understand and respond to signs of mental illnesses and substance use. Register now.
URL:https://www.iask-cab.org/event/adult-mental-health-first-aid-training/
CATEGORIES:Local Trainings & Workshops
END:VEVENT
BEGIN:VEVENT
DTSTART;TZID=America/New_York:20250220T183000
DTEND;TZID=America/New_York:20250220T200000
DTSTAMP:20260425T062015
CREATED:20250126T111631Z
LAST-MODIFIED:20250126T111631Z
UID:2961-1740076200-1740081600@www.iask-cab.org
SUMMARY:Virtual Overdose Prevention Training
DESCRIPTION:Virtual Zoom training on the third Thursday of every month at 6:30 p.m. Free training: Following training\, participants receive a kit by mail. Register now: ssal@drugcrisisinourbackyard.com
URL:https://www.iask-cab.org/event/virtual-overdose-prevention-training-10/
CATEGORIES:Local Trainings & Workshops
END:VEVENT
BEGIN:VEVENT
DTSTART;TZID=America/New_York:20250218T130000
DTEND;TZID=America/New_York:20250218T140000
DTSTAMP:20260425T062015
CREATED:20250126T111542Z
LAST-MODIFIED:20250126T111542Z
UID:2959-1739883600-1739887200@www.iask-cab.org
SUMMARY:Webinar: Vaping in 2025
DESCRIPTION:Join Dr. Weiner for an in-depth look at the evolving vaping landscape\, the hidden risks to physical and mental health\, and practical tips to help you have informed\, impactful conversations with your child. Register now.
URL:https://www.iask-cab.org/event/webinar-vaping-in-2025/
CATEGORIES:Local Trainings & Workshops
END:VEVENT
BEGIN:VEVENT
DTSTART;TZID=America/New_York:20250122T190000
DTEND;TZID=America/New_York:20250122T200000
DTSTAMP:20260425T062015
CREATED:20241024T101753Z
LAST-MODIFIED:20241024T101753Z
UID:2938-1737572400-1737576000@www.iask-cab.org
SUMMARY:K.N.O.W. 2 Prevent: Teen Mental Health
DESCRIPTION:We are in the midst of a youth mental health crisis with teens increasingly reporting persistent feelings of sadness and hopelessness\, along with increased suicide rates. Factors contributing to this crisis include the negative effects of social media\, increased academic pressure\, childhood trauma\, alcohol and substance use\, and social isolation. \nThe good news is\, research shows parents and caregivers can make a difference. Whether your teen is experiencing typical challenges\, an uptick in stress from significant setbacks\, or a serious mental health condition\, parents help their child enormously when they provide security\, maintain a calm and positive relating approach\, and practice effective problem-solving strategies. \nThis presentation will help you navigate the challenges of managing boundaries and policies regarding sleep\, substance use\, media\, and other health-related routines\, without sacrificing a warm and loving relationship and while granting developmentally-appropriate autonomy. \nRegister now.
URL:https://www.iask-cab.org/event/k-n-o-w-2-prevent-teen-mental-health/
CATEGORIES:iASK
END:VEVENT
BEGIN:VEVENT
DTSTART;TZID=America/New_York:20250116T183000
DTEND;TZID=America/New_York:20250116T200000
DTSTAMP:20260425T062015
CREATED:20241226T112503Z
LAST-MODIFIED:20241226T112503Z
UID:2954-1737052200-1737057600@www.iask-cab.org
SUMMARY:Virtual Overdose Prevention Training
DESCRIPTION:Virtual Zoom training on the third Thursday of every month at 6:30 p.m. Free training: Following training\, participants receive a kit by mail. Register now: ssal@drugcrisisinourbackyard.com
URL:https://www.iask-cab.org/event/virtual-overdose-prevention-training-9/
CATEGORIES:iASK
END:VEVENT
BEGIN:VEVENT
DTSTART;TZID=America/New_York:20250109T080000
DTEND;TZID=America/New_York:20250109T170000
DTSTAMP:20260425T062015
CREATED:20241226T112419Z
LAST-MODIFIED:20241226T112419Z
UID:2952-1736409600-1736442000@www.iask-cab.org
SUMMARY:Webinar: The Connection Between Substance Use Disorders and Mental Illness
DESCRIPTION:Substance use disorders and mental illnesses are caused by overlapping risk factors. Explore the reciprocal relationship between substance use and mental illness\, and discuss the role of genetics\, environment\, and trauma with a licensed therapist. Register here.
URL:https://www.iask-cab.org/event/webinar-the-connection-between-substance-use-disorders-and-mental-illness/
END:VEVENT
BEGIN:VEVENT
DTSTART;TZID=America/New_York:20250107T080000
DTEND;TZID=America/New_York:20250107T170000
DTSTAMP:20260425T062015
CREATED:20241226T112344Z
LAST-MODIFIED:20241226T112344Z
UID:2950-1736236800-1736269200@www.iask-cab.org
SUMMARY:Webinar: Understanding Seasonal Depression
DESCRIPTION:Do the winter months get you down more than you think they should? Explore the signs and symptoms of seasonal affective disorder\, when it’s time to see a doctor\, and what treatment options are available. Register here.
URL:https://www.iask-cab.org/event/webinar-understanding-seasonal-depression/
CATEGORIES:Local Trainings & Workshops
END:VEVENT
BEGIN:VEVENT
DTSTART;TZID=America/New_York:20241211T130000
DTEND;TZID=America/New_York:20241211T140000
DTSTAMP:20260425T062015
CREATED:20241024T101544Z
LAST-MODIFIED:20241024T101544Z
UID:2936-1733922000-1733925600@www.iask-cab.org
SUMMARY:Operation Parent: Prevention Science in Action: Supporting Families & Schools in Raising Healthy Kids
DESCRIPTION:Operation Parent presents this webinar to introduce practical strategies to guide young people toward healthier choices. Learn age-appropriate ways to help students build confidence\, resist peer pressure\, and avoid high-risk behaviors. Register now.
URL:https://www.iask-cab.org/event/operation-parent-prevention-science-in-action-supporting-families-schools-in-raising-healthy-kids/
CATEGORIES:iASK
END:VEVENT
BEGIN:VEVENT
DTSTART;TZID=America/New_York:20241112T130000
DTEND;TZID=America/New_York:20241112T140000
DTSTAMP:20260425T062015
CREATED:20241024T101449Z
LAST-MODIFIED:20241024T101449Z
UID:2934-1731416400-1731420000@www.iask-cab.org
SUMMARY:Operation Parent: Safe Roads Ahead
DESCRIPTION:How to discuss safe driving with children and teens. Register now.
URL:https://www.iask-cab.org/event/operation-parent-safe-roads-ahead/
CATEGORIES:iASK
END:VEVENT
BEGIN:VEVENT
DTSTART;TZID=America/New_York:20241021T080000
DTEND;TZID=America/New_York:20241021T170000
DTSTAMP:20260425T062015
CREATED:20240922T112630Z
LAST-MODIFIED:20240922T112630Z
UID:2930-1729497600-1729530000@www.iask-cab.org
SUMMARY:Webinar: Supporting Kids Who Have Experienced Bullying
DESCRIPTION:Finding out your child is being bullied is confusing and painful. Explore the factors involved when deciding when to step in to support a child\, and when to give them space. Register here.
URL:https://www.iask-cab.org/event/webinar-supporting-kids-who-have-experienced-bullying/
CATEGORIES:Local Trainings & Workshops
END:VEVENT
BEGIN:VEVENT
DTSTART;TZID=America/New_York:20241010T080000
DTEND;TZID=America/New_York:20241010T170000
DTSTAMP:20260425T062015
CREATED:20240922T112522Z
LAST-MODIFIED:20240922T112522Z
UID:2928-1728547200-1728579600@www.iask-cab.org
SUMMARY:Virtual Mental Health First Aid Training
DESCRIPTION:Mental Health First Aid for Adults teaches people how to recognize signs of mental health or substance use challenges in adults ages 18 and older\, how to offer and provide initial help\, and how to guide a person toward appropriate care if necessary. Register here. \n​
URL:https://www.iask-cab.org/event/virtual-mental-health-first-aid-training/
CATEGORIES:Local Trainings & Workshops
END:VEVENT
BEGIN:VEVENT
DTSTART;TZID=America/New_York:20241008T190000
DTEND;TZID=America/New_York:20241008T203000
DTSTAMP:20260425T062015
CREATED:20240922T112440Z
LAST-MODIFIED:20240922T112440Z
UID:2926-1728414000-1728419400@www.iask-cab.org
SUMMARY:K.N.O.W. 2 Prevent - Screen Smart Parenting
DESCRIPTION:K.N.O.W. 2 Prevent presents Adam Pletter\, PsyD to discuss actionable tips for fostering a healthy relationship with technology\, raising healthy\, safe\, and resilient children in today’s digital world. Register here.
URL:https://www.iask-cab.org/event/k-n-o-w-2-prevent-screen-smart-parenting/
CATEGORIES:iASK,Local Trainings & Workshops
END:VEVENT
BEGIN:VEVENT
DTSTART;TZID=America/New_York:20241008T130000
DTEND;TZID=America/New_York:20241008T140000
DTSTAMP:20260425T062015
CREATED:20240824T093025Z
LAST-MODIFIED:20240824T093025Z
UID:2917-1728392400-1728396000@www.iask-cab.org
SUMMARY:Webinar: Balancing Family Screen Time
DESCRIPTION:Join Dr. Mandakini Sadhir\, Chief of Adolescent Medicine at the University of Kentucky\, as she shares her frontline experiences of helping families manage digital life. Drawing on her work with kids\, teens\, and parents\, Dr. Sadhir will offer practical strategies to overcome challenges while highlighting what really works when it comes to fostering healthy tech habits. She will also spotlight valuable resources from the American Academy of Pediatrics\, giving you evidence-based guidance to make your home a healthy digital environment.
URL:https://www.iask-cab.org/event/webinar-balancing-family-screen-time/
END:VEVENT
BEGIN:VEVENT
DTSTART;TZID=America/New_York:20241007T080000
DTEND;TZID=America/New_York:20241007T170000
DTSTAMP:20260425T062015
CREATED:20240922T112324Z
LAST-MODIFIED:20240922T112324Z
UID:2924-1728288000-1728320400@www.iask-cab.org
SUMMARY:Webinar: Bullying and the Impact on Children
DESCRIPTION:Explore the types of bullying\, risk factors for being bullied\, and how bullying impacts children at different developmental stages with a licensed therapist. Examine how kids “become” bullies\, how to help kids understand what bullying looks like\, and signs that a child may be the victim of bullying. Register here.
URL:https://www.iask-cab.org/event/webinar-bullying-and-the-impact-on-children/
CATEGORIES:Local Trainings & Workshops
END:VEVENT
BEGIN:VEVENT
DTSTART;TZID=America/New_York:20240910T193000
DTEND;TZID=America/New_York:20240910T203000
DTSTAMP:20260425T062015
CREATED:20240824T094326Z
LAST-MODIFIED:20240824T094326Z
UID:2919-1725996600-1726000200@www.iask-cab.org
SUMMARY:The Right to be You(th)
DESCRIPTION:Join us to be a catalyst for safer\, more inclusive environments where all youth feel they have the “Right to Be” themselves. This program is an innovative\, student-focused approach to empowering high school students to combat bullying and promote respect in schools and other youth spaces. Sessions will be held every Tuesday from 7:30 to 8:30 PM on zoom\, led by community volunteers in the Rivertowns. Learn more at an upcoming info sessions. Apply to join the Fall 2024 Cohort.
URL:https://www.iask-cab.org/event/the-right-to-be-youth/
END:VEVENT
BEGIN:VEVENT
DTSTART;TZID=America/New_York:20240909T130000
DTEND;TZID=America/New_York:20240909T140000
DTSTAMP:20260425T062015
CREATED:20240824T092633Z
LAST-MODIFIED:20240824T092633Z
UID:2915-1725886800-1725890400@www.iask-cab.org
SUMMARY:Webinar: Understanding the Impact of Social Media
DESCRIPTION:Social media has a powerful grip on almost everyone\, especially our kids. That’s why The Mediatrician\, Dr. Michael Rich\, is going to dive into its profound impact. He will cover how virtual connections are affecting real-life relationships\, the toxicity of social media influencers\, and how all those perfect images are harming body image and self-esteem. He will also discuss the role social media plays in promoting risky behaviors like vaping and drinking. Gain practical\, actionable steps to help your family navigate these challenges and foster a healthier\, more balanced digital lives.
URL:https://www.iask-cab.org/event/webinar-understanding-the-impact-of-social-media/
CATEGORIES:Local Trainings & Workshops
END:VEVENT
END:VCALENDAR