BEGIN:VCALENDAR
VERSION:2.0
PRODID:-//iASK-CAB - ECPv6.15.1.1//NONSGML v1.0//EN
CALSCALE:GREGORIAN
METHOD:PUBLISH
X-ORIGINAL-URL:https://www.iask-cab.org
X-WR-CALDESC:Events for iASK-CAB
REFRESH-INTERVAL;VALUE=DURATION:PT1H
X-Robots-Tag:noindex
X-PUBLISHED-TTL:PT1H
BEGIN:VTIMEZONE
TZID:America/New_York
BEGIN:DAYLIGHT
TZOFFSETFROM:-0500
TZOFFSETTO:-0400
TZNAME:EDT
DTSTART:20190310T070000
END:DAYLIGHT
BEGIN:STANDARD
TZOFFSETFROM:-0400
TZOFFSETTO:-0500
TZNAME:EST
DTSTART:20191103T060000
END:STANDARD
BEGIN:DAYLIGHT
TZOFFSETFROM:-0500
TZOFFSETTO:-0400
TZNAME:EDT
DTSTART:20200308T070000
END:DAYLIGHT
BEGIN:STANDARD
TZOFFSETFROM:-0400
TZOFFSETTO:-0500
TZNAME:EST
DTSTART:20201101T060000
END:STANDARD
BEGIN:DAYLIGHT
TZOFFSETFROM:-0500
TZOFFSETTO:-0400
TZNAME:EDT
DTSTART:20210314T070000
END:DAYLIGHT
BEGIN:STANDARD
TZOFFSETFROM:-0400
TZOFFSETTO:-0500
TZNAME:EST
DTSTART:20211107T060000
END:STANDARD
BEGIN:DAYLIGHT
TZOFFSETFROM:-0500
TZOFFSETTO:-0400
TZNAME:EDT
DTSTART:20220313T070000
END:DAYLIGHT
BEGIN:STANDARD
TZOFFSETFROM:-0400
TZOFFSETTO:-0500
TZNAME:EST
DTSTART:20221106T060000
END:STANDARD
BEGIN:DAYLIGHT
TZOFFSETFROM:-0500
TZOFFSETTO:-0400
TZNAME:EDT
DTSTART:20230312T070000
END:DAYLIGHT
BEGIN:STANDARD
TZOFFSETFROM:-0400
TZOFFSETTO:-0500
TZNAME:EST
DTSTART:20231105T060000
END:STANDARD
BEGIN:DAYLIGHT
TZOFFSETFROM:-0500
TZOFFSETTO:-0400
TZNAME:EDT
DTSTART:20240310T070000
END:DAYLIGHT
BEGIN:STANDARD
TZOFFSETFROM:-0400
TZOFFSETTO:-0500
TZNAME:EST
DTSTART:20241103T060000
END:STANDARD
END:VTIMEZONE
BEGIN:VEVENT
DTSTART;VALUE=DATE:20240509
DTEND;VALUE=DATE:20240510
DTSTAMP:20260425T125718
CREATED:20240413T111119Z
LAST-MODIFIED:20240413T111119Z
UID:2873-1715212800-1715299199@www.iask-cab.org
SUMMARY:JED: Mental Health Help-Seeking Behaviors in Teens
DESCRIPTION:The Morgan Stanley Alliance for Children’s Mental Health invites you to join JED for an expert panel discussing important findings from this research\, including: \n\nTop concerns holding teens back from asking for help\nWhere teens turn for support and what they really want when reaching out for help\nHow parents and other adults can better enable teens to talk about their mental health\n\nRegister Now.
URL:https://www.iask-cab.org/event/jed-mental-health-help-seeking-behaviors-in-teens/
CATEGORIES:Local Trainings & Workshops
END:VEVENT
BEGIN:VEVENT
DTSTART;TZID=America/New_York:20240508T190000
DTEND;TZID=America/New_York:20240508T203000
DTSTAMP:20260425T125718
CREATED:20240423T015117Z
LAST-MODIFIED:20240423T015117Z
UID:2881-1715194800-1715200200@www.iask-cab.org
SUMMARY:Parenting and Safety in the Age of Fentanyl
DESCRIPTION:Fentanyl has changed the game when it comes to navigating adolescence and parenting. It has caused a record number of overdoses and left parents feeling helpless about what to do. New dangerous substances are appearing on the streets. Join us for this informative\, interactive session to learn critical information about fentanyl as well as useful strategies for preventing tragic consequences. Tammi Jacobs Shulman will share her experience and expertise as a forensic scientist who specializes in controlled substances and Donna Volpitta\, Ed.D. will share The Resilient Mindset Model to give insights about the brain science of decision-making\, including alcohol\, marijuana\, and other risky decisions. Don’t miss this opportunity to learn actionable strategies for parenting in the age of fentanyl.
URL:https://www.iask-cab.org/event/parenting-and-safety-in-the-age-of-fentanyl/
CATEGORIES:Local Trainings & Workshops
END:VEVENT
BEGIN:VEVENT
DTSTART;TZID=America/New_York:20240506T190000
DTEND;TZID=America/New_York:20240506T200000
DTSTAMP:20260425T125718
CREATED:20240413T105533Z
LAST-MODIFIED:20240413T105533Z
UID:2869-1715022000-1715025600@www.iask-cab.org
SUMMARY:NAMI: In Our Own Voice
DESCRIPTION:On May 6th\, join NAMI for “In Our Own Voice”\, a unique public education presentation in which speakers share their compelling personal stories of living with mental health challenges and achieving recovery. Register now: https://ow.ly/bt8250RfwzY
URL:https://www.iask-cab.org/event/nami-in-our-own-voice/
CATEGORIES:Local Trainings & Workshops
END:VEVENT
BEGIN:VEVENT
DTSTART;TZID=America/New_York:20240501T190000
DTEND;TZID=America/New_York:20240501T203000
DTSTAMP:20260425T125718
CREATED:20240427T003957Z
LAST-MODIFIED:20240427T003957Z
UID:2883-1714590000-1714595400@www.iask-cab.org
SUMMARY:Is Marijuana Medicine?
DESCRIPTION:The potential benefits\, risks\, and limits of cannabis and cannabinoid products. Register now.
URL:https://www.iask-cab.org/event/is-marijuana-medicine/
CATEGORIES:Local Trainings & Workshops
END:VEVENT
BEGIN:VEVENT
DTSTART;TZID=America/New_York:20240416T190000
DTEND;TZID=America/New_York:20240416T203000
DTSTAMP:20260425T125718
CREATED:20240317T105004Z
LAST-MODIFIED:20240317T105045Z
UID:2865-1713294000-1713299400@www.iask-cab.org
SUMMARY:K.N.O.W. 2 Prevent: The One Choice 5: What Caring Adults Need to Know
DESCRIPTION:
URL:https://www.iask-cab.org/event/k-n-o-w-2-prevent-the-one-choice-5-what-caring-adults-need-to-know/
END:VEVENT
BEGIN:VEVENT
DTSTART;TZID=America/New_York:20240321T183000
DTEND;TZID=America/New_York:20240321T200000
DTSTAMP:20260425T125718
CREATED:20240107T192938Z
LAST-MODIFIED:20240107T192938Z
UID:2828-1711045800-1711051200@www.iask-cab.org
SUMMARY:Virtual Overdose Prevention Training
DESCRIPTION:Virtual Zoom training on the third Thursday of every month at 6:30 p.m. Free training: Following training\, participants receive a kit by mail. Register now: ssal@drugcrisisinourbackyard.com
URL:https://www.iask-cab.org/event/virtual-overdose-prevention-training-6/
CATEGORIES:Local Trainings & Workshops
END:VEVENT
BEGIN:VEVENT
DTSTART;TZID=America/New_York:20240306T190000
DTEND;TZID=America/New_York:20240306T203000
DTSTAMP:20260425T125718
CREATED:20240228T110154Z
LAST-MODIFIED:20240228T110154Z
UID:2859-1709751600-1709757000@www.iask-cab.org
SUMMARY:K.N.O.W. 2 Prevent: Sports Betting
DESCRIPTION:
URL:https://www.iask-cab.org/event/k-n-o-w-2-prevent-sports-betting/
CATEGORIES:Local Trainings & Workshops
END:VEVENT
BEGIN:VEVENT
DTSTART;TZID=America/New_York:20240302T090000
DTEND;TZID=America/New_York:20240302T140000
DTSTAMP:20260425T125718
CREATED:20240209T022040Z
LAST-MODIFIED:20240209T022520Z
UID:2841-1709370000-1709388000@www.iask-cab.org
SUMMARY:An Invitation to Change
DESCRIPTION:Join Drug Crisis in Our Backyard for a workshop on the The Invitation to Change Approach\, and bring a new understanding of substance use into your daily life. \nThe Invitation to Change Approach (ITC) is grounded in compassion\, connection\, and the belief that you can do something to help a struggling loved one. \nThis workshop focuses on concepts that will help you promote growth in your loved one and support them through the process of change. https://form.jotform.com/240145690553152
URL:https://www.iask-cab.org/event/an-invitation-to-change/
CATEGORIES:Local Trainings & Workshops
END:VEVENT
BEGIN:VEVENT
DTSTART;TZID=America/New_York:20240215T183000
DTEND;TZID=America/New_York:20240215T200000
DTSTAMP:20260425T125718
CREATED:20240107T192751Z
LAST-MODIFIED:20240107T192751Z
UID:2826-1708021800-1708027200@www.iask-cab.org
SUMMARY:Virtual Overdose Prevention Training
DESCRIPTION:Virtual Zoom training on the third Thursday of every month at 6:30 p.m. Free training: Following training\, participants receive a kit by mail. Register now: ssal@drugcrisisinourbackyard.com
URL:https://www.iask-cab.org/event/virtual-overdose-prevention-training-5/
CATEGORIES:Local Trainings & Workshops
END:VEVENT
BEGIN:VEVENT
DTSTART;TZID=America/New_York:20240124T190000
DTEND;TZID=America/New_York:20240124T200000
DTSTAMP:20260425T125718
CREATED:20240122T202754Z
LAST-MODIFIED:20240122T202754Z
UID:2837-1706122800-1706126400@www.iask-cab.org
SUMMARY:Youth Drug and Alcohol Use: An Irvington Perspective 2024
DESCRIPTION:
URL:https://www.iask-cab.org/event/youth-drug-and-alcohol-use-an-irvington-perspective-2024/
LOCATION:Irvington Library\, 12 S Astor Street\, Irvington\, NY\, 10533
CATEGORIES:iASK
END:VEVENT
BEGIN:VEVENT
DTSTART;TZID=America/New_York:20240123T190000
DTEND;TZID=America/New_York:20240123T203000
DTSTAMP:20260425T125718
CREATED:20231229T105039Z
LAST-MODIFIED:20231229T105039Z
UID:2820-1706036400-1706041800@www.iask-cab.org
SUMMARY:K.N.O.W. 2 Prevent – Protective Power of Parenting
DESCRIPTION:Dr. Ken Ginsburg will speak about the critical importance of parents and caring adults in the lives of adolescents. Register now.
URL:https://www.iask-cab.org/event/k-n-o-w-2-prevent-protective-power-of-parenting/
CATEGORIES:Local Trainings & Workshops
END:VEVENT
BEGIN:VEVENT
DTSTART;TZID=America/New_York:20240118T183000
DTEND;TZID=America/New_York:20240118T200000
DTSTAMP:20260425T125718
CREATED:20230918T103351Z
LAST-MODIFIED:20230918T103351Z
UID:2794-1705602600-1705608000@www.iask-cab.org
SUMMARY:Virtual Overdose Prevention Training
DESCRIPTION:Virtual Zoom training on the third Thursday of every month at 6:30 p.m. Free training: Following training\, participants receive a kit by mail. Register now: ssal@drugcrisisinourbackyard.com
URL:https://www.iask-cab.org/event/virtual-overdose-prevention-training-4/
CATEGORIES:Local Trainings & Workshops
END:VEVENT
BEGIN:VEVENT
DTSTART;TZID=America/New_York:20240117T183000
DTEND;TZID=America/New_York:20240117T200000
DTSTAMP:20260425T125718
CREATED:20240107T193601Z
LAST-MODIFIED:20240107T193601Z
UID:2830-1705516200-1705521600@www.iask-cab.org
SUMMARY:Upgrade My Communication
DESCRIPTION:Register now.
URL:https://www.iask-cab.org/event/upgrade-my-communication/
END:VEVENT
BEGIN:VEVENT
DTSTART;TZID=America/New_York:20231221T183000
DTEND;TZID=America/New_York:20231221T200000
DTSTAMP:20260425T125718
CREATED:20230918T103312Z
LAST-MODIFIED:20230918T103312Z
UID:2792-1703183400-1703188800@www.iask-cab.org
SUMMARY:Virtual Overdose Prevention Training
DESCRIPTION:Virtual Zoom training on the third Thursday of every month at 6:30 p.m. Free training: Following training\, participants receive a kit by mail. Register now: ssal@drugcrisisinourbackyard.com
URL:https://www.iask-cab.org/event/virtual-overdose-prevention-training-3/
CATEGORIES:Local Trainings & Workshops
END:VEVENT
BEGIN:VEVENT
DTSTART;TZID=America/New_York:20231116T183000
DTEND;TZID=America/New_York:20231116T200000
DTSTAMP:20260425T125718
CREATED:20230918T103212Z
LAST-MODIFIED:20230918T103212Z
UID:2790-1700159400-1700164800@www.iask-cab.org
SUMMARY:Virtual Overdose Prevention Training
DESCRIPTION:Virtual Zoom training on the third Thursday of every month at 6:30 p.m. Free training: Following training\, participants receive a kit by mail. Register now: ssal@drugcrisisinourbackyard.com
URL:https://www.iask-cab.org/event/virtual-overdose-prevention-training-2/
END:VEVENT
BEGIN:VEVENT
DTSTART;TZID=America/New_York:20231025T190000
DTEND;TZID=America/New_York:20231025T203000
DTSTAMP:20260425T125718
CREATED:20231013T193404Z
LAST-MODIFIED:20231013T193404Z
UID:2799-1698260400-1698265800@www.iask-cab.org
SUMMARY:K.N.O.W. 2 Prevent - Know Your NeuroWhereAbouts: Brain Based Strategies for Parents & Caregivers
DESCRIPTION:Join us to learn parenting techniques based on your child’s stage of brain development. Register now.
URL:https://www.iask-cab.org/event/k-n-o-w-2-prevent-know-your-neurowhereabouts-brain-based-strategies-for-parents-caregivers/
CATEGORIES:Local Trainings & Workshops
END:VEVENT
BEGIN:VEVENT
DTSTART;TZID=America/New_York:20231019T183000
DTEND;TZID=America/New_York:20231019T200000
DTSTAMP:20260425T125718
CREATED:20230918T103102Z
LAST-MODIFIED:20230918T103102Z
UID:2788-1697740200-1697745600@www.iask-cab.org
SUMMARY:Virtual Overdose Prevention Training
DESCRIPTION:Virtual Zoom training on the third Thursday of every month at 6:30 p.m. Free training: Following training\, participants receive a kit by mail. Register now: ssal@drugcrisisinourbackyard.com
URL:https://www.iask-cab.org/event/virtual-overdose-prevention-training/
CATEGORIES:Local Trainings & Workshops
END:VEVENT
BEGIN:VEVENT
DTSTART;TZID=America/New_York:20230926T130000
DTEND;TZID=America/New_York:20230926T143000
DTSTAMP:20260425T125718
CREATED:20230727T101652Z
LAST-MODIFIED:20230727T101652Z
UID:2770-1695733200-1695738600@www.iask-cab.org
SUMMARY:Webinar: Making the Internet Safe
DESCRIPTION:Discover how to protect your family from your biggest technology concerns like malware\, inappropriate content\, and the time spent on technology. Register now.
URL:https://www.iask-cab.org/event/webinar-making-the-internet-safe/
CATEGORIES:Local Trainings & Workshops
END:VEVENT
BEGIN:VEVENT
DTSTART;TZID=America/New_York:20230829T130000
DTEND;TZID=America/New_York:20230829T143000
DTSTAMP:20260425T125718
CREATED:20230727T101528Z
LAST-MODIFIED:20230727T101528Z
UID:2768-1693314000-1693319400@www.iask-cab.org
SUMMARY:Webinar: Digital Parenting
DESCRIPTION:Learn how to develop your technology skills so that you can better communicate about technology at home. Register now.
URL:https://www.iask-cab.org/event/webinar-digital-parenting/
CATEGORIES:Local Trainings & Workshops
END:VEVENT
BEGIN:VEVENT
DTSTART;TZID=America/New_York:20230422T080000
DTEND;TZID=America/New_York:20230422T120000
DTSTAMP:20260425T125718
CREATED:20230419T094044Z
LAST-MODIFIED:20230419T094044Z
UID:2713-1682150400-1682164800@www.iask-cab.org
SUMMARY:Rx Drug Disposal
DESCRIPTION:
URL:https://www.iask-cab.org/event/rx-drug-disposal-3/
LOCATION:Town Hall\, United States
CATEGORIES:iASK
ORGANIZER;CN="iASK CAB":MAILTO:info@iask-cab.org
END:VEVENT
BEGIN:VEVENT
DTSTART;TZID=America/New_York:20220430T080000
DTEND;TZID=America/New_York:20220430T120000
DTSTAMP:20260425T125718
CREATED:20220419T235755Z
LAST-MODIFIED:20220419T235755Z
UID:2587-1651305600-1651320000@www.iask-cab.org
SUMMARY:Rx Drug Disposal
DESCRIPTION:
URL:https://www.iask-cab.org/event/rx-drug-disposal-2/
LOCATION:Irvington Town Hall Theater\, 85 Main St.\, Irvington \, NY\, 10533\, United States
ORGANIZER;CN="iASK CAB":MAILTO:info@iask-cab.org
END:VEVENT
BEGIN:VEVENT
DTSTART;TZID=America/New_York:20220202T190000
DTEND;TZID=America/New_York:20220202T203000
DTSTAMP:20260425T125718
CREATED:20211215T010138Z
LAST-MODIFIED:20211215T010605Z
UID:2518-1643828400-1643833800@www.iask-cab.org
SUMMARY:Youth Drug and Alcohol Use: An Irvington Perspective 2022
DESCRIPTION:Join the Irvington About Safe Kids – Community Advisory Board coalition for a presentation of Irvington student survey results investigating drug and alcohol use and perceptions among our youth. In conjunction\, a panel of local experts will discuss associated social\, legal\, mental health and medical concerns. \nRegister now.
URL:https://www.iask-cab.org/event/youth-drug-and-alcohol-use-an-irvington-perspective-2022/
CATEGORIES:iASK
ORGANIZER;CN="iASK CAB":MAILTO:info@iask-cab.org
END:VEVENT
BEGIN:VEVENT
DTSTART;TZID=America/New_York:20211028T190000
DTEND;TZID=America/New_York:20211028T203000
DTSTAMP:20260425T125718
CREATED:20211020T145335Z
LAST-MODIFIED:20211020T145335Z
UID:2461-1635447600-1635453000@www.iask-cab.org
SUMMARY:K.N.O.W. 2 Prevent - The Gift of Failure: Parenting and Wellness
DESCRIPTION:All parents and adult community members are invited to join K.N.O.W. 2 Prevent for an insightful presentation by Jessica Lahey\, author of the NY Time best-selling book\, The Gift of Failure: How the Best Parents Let Go So Their Children Can Succeed and The Addiction Inoculation: Raising Healthy Kids in a Culture of Dependence. Ms. Lahey will cover parenting topics from both books\, including homework\, social dynamics\, competitive sports\, and substance use prevention. Join us as we kick off our 2021-22 season!
URL:https://www.iask-cab.org/event/k-n-o-w-2-prevent-the-gift-of-failure-parenting-and-wellness/
CATEGORIES:iASK,Local Trainings & Workshops
END:VEVENT
BEGIN:VEVENT
DTSTART;TZID=America/New_York:20210424T100000
DTEND;TZID=America/New_York:20210424T140000
DTSTAMP:20260425T125718
CREATED:20210413T105228Z
LAST-MODIFIED:20210413T105228Z
UID:2369-1619258400-1619272800@www.iask-cab.org
SUMMARY:Rx Drug Disposal
DESCRIPTION:
URL:https://www.iask-cab.org/event/rx-drug-disposal/
LOCATION:Town Hall\, United States
CATEGORIES:iASK
ORGANIZER;CN="iASK CAB":MAILTO:info@iask-cab.org
END:VEVENT
BEGIN:VEVENT
DTSTART;TZID=America/New_York:20200923T190000
DTEND;TZID=America/New_York:20200923T203000
DTSTAMP:20260425T125718
CREATED:20200921T012411Z
LAST-MODIFIED:20200921T012411Z
UID:2280-1600887600-1600893000@www.iask-cab.org
SUMMARY:K.N.O.W. 2 Prevent - Helping Kids Today Become Successful Adults Tomorrow
DESCRIPTION:As parents\, teachers and other caring adults in the lives of kids\, we all want the same thing: to see them happy\, self-confident and ready for the adult world. Using humorous and touching stories from more than two decades working with at-risk youth and their families – plus his own challenges as a struggling teen – Joshua gives attendees the essential tools they need to help them make that a reality for the children in their lives. \n \nRegister now.
URL:https://www.iask-cab.org/event/k-n-o-w-2-prevent-helping-kids-today-become-successful-adults-tomorrow/
CATEGORIES:iASK
END:VEVENT
BEGIN:VEVENT
DTSTART;TZID=America/New_York:20200226T190000
DTEND;TZID=America/New_York:20200226T203000
DTSTAMP:20260425T125718
CREATED:20200204T220619Z
LAST-MODIFIED:20200204T222012Z
UID:1985-1582743600-1582749000@www.iask-cab.org
SUMMARY:The Impact of Substance Use on Academic Performance
DESCRIPTION:Dr. Amelia Arria is a widely recognized expert in substance abuse and mental health. In this presentation\, she will discuss her recent work on the impact of substance use\, particularly excessive drinking and marijuana use\, on academic achievement. \n  \nRegister now.
URL:https://www.iask-cab.org/event/the-impact-of-substance-use-on-academic-performance/
LOCATION:Irvington Library\, 12 S Astor Street\, Irvington\, NY\, 10533
CATEGORIES:iASK
ORGANIZER;CN="iASK CAB":MAILTO:info@iask-cab.org
END:VEVENT
BEGIN:VEVENT
DTSTART;TZID=America/New_York:20191120T183000
DTEND;TZID=America/New_York:20191120T203000
DTSTAMP:20260425T125718
CREATED:20191111T005304Z
LAST-MODIFIED:20191120T132936Z
UID:1953-1574274600-1574281800@www.iask-cab.org
SUMMARY:What Every Parent Should Know
DESCRIPTION:Register now.\n**Please note that there has been a location change! The presentation is being moved to the Campus Presentation Room (CPR) at the high school. We look forward to seeing you!
URL:https://www.iask-cab.org/event/what-every-parent-should-know/
LOCATION:Irvington High School Theater\, 40 North Broadway\, Irvington\, New York\, 10533
CATEGORIES:iASK
ORGANIZER;CN="iASK CAB":MAILTO:info@iask-cab.org
END:VEVENT
BEGIN:VEVENT
DTSTART;TZID=America/New_York:20191030T190000
DTEND;TZID=America/New_York:20191030T203000
DTSTAMP:20260425T125718
CREATED:20191016T221522Z
LAST-MODIFIED:20191016T221522Z
UID:1926-1572462000-1572467400@www.iask-cab.org
SUMMARY:Drugs and Alcohol Use: An Irvington Perspective 2019
DESCRIPTION:
URL:https://www.iask-cab.org/event/drugs-and-alcohol-use-an-irvington-perspective-2019/
LOCATION:Irvington Town Hall Theater\, 85 Main St.\, Irvington \, NY\, 10533\, United States
CATEGORIES:iASK
ORGANIZER;CN="iASK CAB":MAILTO:info@iask-cab.org
END:VEVENT
BEGIN:VEVENT
DTSTART;VALUE=DATE:20191026
DTEND;VALUE=DATE:20191027
DTSTAMP:20260425T125718
CREATED:20191006T123750Z
LAST-MODIFIED:20191006T124720Z
UID:1919-1572048000-1572134399@www.iask-cab.org
SUMMARY:National Prescription Drug Take Back Day
DESCRIPTION:DEA’s National Prescription Drug Take Back Day is right around the corner on Saturday\, October 26th from 10am to 2pm\, so save the date and mark your calendar!\n\nDFC coalitions have repeatedly shown that preventing drug use before it begins\, particularly among young people\, is the most cost effective way to reduce drug use and its consequences.\n\nIn fact\, according to the 2018 DFC National Evaluation End-of-Year Report\, almost all DFC coalitions (96%) reported having a prescription take back program or event in their communities.  Take Back Day events provide a safe\, convenient\, and responsible means of disposing unused or expired prescription drugs\, while also educating the general public about the potential for abuse of medications.\n\nThe DEA reports that during the last Take Back Day in April they collected 468 tons of unused or expired prescription medication.  This brings the total amount of prescription drugs collected by DEA since the fall of 2010 to 11\,816\,393 pounds.\n\nUnable to attend?
URL:https://www.iask-cab.org/event/national-prescription-drug-take-back-day/
LOCATION:Irvington Police Department\, 85 Main St.\, Irvington \, New York
CATEGORIES:iASK
ORGANIZER;CN="iASK CAB":MAILTO:info@iask-cab.org
END:VEVENT
BEGIN:VEVENT
DTSTART;TZID=America/New_York:20190618T080000
DTEND;TZID=America/New_York:20190618T090000
DTSTAMP:20260425T125718
CREATED:20180922T134815Z
LAST-MODIFIED:20180929T191305Z
UID:1507-1560844800-1560848400@www.iask-cab.org
SUMMARY:iASK Board Meeting
DESCRIPTION:For more information\, contact info@iASK-CAB.org.
URL:https://www.iask-cab.org/event/iask-meeting-10/
CATEGORIES:iASK
ORGANIZER;CN="iASK CAB":MAILTO:info@iask-cab.org
END:VEVENT
END:VCALENDAR