BEGIN:VCALENDAR
VERSION:2.0
PRODID:-//iASK-CAB - ECPv6.15.1.1//NONSGML v1.0//EN
CALSCALE:GREGORIAN
METHOD:PUBLISH
X-WR-CALNAME:iASK-CAB
X-ORIGINAL-URL:https://www.iask-cab.org
X-WR-CALDESC:Events for iASK-CAB
REFRESH-INTERVAL;VALUE=DURATION:PT1H
X-Robots-Tag:noindex
X-PUBLISHED-TTL:PT1H
BEGIN:VTIMEZONE
TZID:America/New_York
BEGIN:DAYLIGHT
TZOFFSETFROM:-0500
TZOFFSETTO:-0400
TZNAME:EDT
DTSTART:20170312T070000
END:DAYLIGHT
BEGIN:STANDARD
TZOFFSETFROM:-0400
TZOFFSETTO:-0500
TZNAME:EST
DTSTART:20171105T060000
END:STANDARD
BEGIN:DAYLIGHT
TZOFFSETFROM:-0500
TZOFFSETTO:-0400
TZNAME:EDT
DTSTART:20180311T070000
END:DAYLIGHT
BEGIN:STANDARD
TZOFFSETFROM:-0400
TZOFFSETTO:-0500
TZNAME:EST
DTSTART:20181104T060000
END:STANDARD
END:VTIMEZONE
BEGIN:VEVENT
DTSTART;TZID=America/New_York:20181218T080000
DTEND;TZID=America/New_York:20181218T090000
DTSTAMP:20260425T193233
CREATED:20180922T134244Z
LAST-MODIFIED:20180929T191358Z
UID:1495-1545120000-1545123600@www.iask-cab.org
SUMMARY:iASK Board Meeting
DESCRIPTION:For more information\, contact info@iASK-CAB.org.
URL:https://www.iask-cab.org/event/iask-meeting-4/
CATEGORIES:iASK
ORGANIZER;CN="iASK CAB":MAILTO:info@iask-cab.org
END:VEVENT
BEGIN:VEVENT
DTSTART;TZID=America/New_York:20181201T100000
DTEND;TZID=America/New_York:20181201T140000
DTSTAMP:20260425T193233
CREATED:20180913T014247Z
LAST-MODIFIED:20180913T014247Z
UID:1464-1543658400-1543672800@www.iask-cab.org
SUMMARY:Rx Drug Take Back
DESCRIPTION:
URL:https://www.iask-cab.org/event/rx-drug-take-back-2/
LOCATION:Town Hall\, United States
CATEGORIES:iASK
ORGANIZER;CN="iASK CAB":MAILTO:info@iask-cab.org
END:VEVENT
BEGIN:VEVENT
DTSTART;TZID=America/New_York:20181120T080000
DTEND;TZID=America/New_York:20181120T090000
DTSTAMP:20260425T193233
CREATED:20180922T134200Z
LAST-MODIFIED:20180929T191409Z
UID:1493-1542700800-1542704400@www.iask-cab.org
SUMMARY:iASK Board Meeting
DESCRIPTION:For more information\, contact info@iASK-CAB.org.
URL:https://www.iask-cab.org/event/iask-meeting-3/
CATEGORIES:iASK
ORGANIZER;CN="iASK CAB":MAILTO:info@iask-cab.org
END:VEVENT
BEGIN:VEVENT
DTSTART;TZID=America/New_York:20181023T080000
DTEND;TZID=America/New_York:20181023T090000
DTSTAMP:20260425T193233
CREATED:20180922T134023Z
LAST-MODIFIED:20180929T191416Z
UID:1491-1540281600-1540285200@www.iask-cab.org
SUMMARY:iASK Board Meeting
DESCRIPTION:For more information\, contact info@iASK-CAB.org
URL:https://www.iask-cab.org/event/iask-meeting-2/
CATEGORIES:iASK
ORGANIZER;CN="iASK CAB":MAILTO:info@iask-cab.org
END:VEVENT
BEGIN:VEVENT
DTSTART;TZID=America/New_York:20180925T080000
DTEND;TZID=America/New_York:20180925T090000
DTSTAMP:20260425T193233
CREATED:20180922T133848Z
LAST-MODIFIED:20180929T191423Z
UID:1489-1537862400-1537866000@www.iask-cab.org
SUMMARY:iASK Board Meeting
DESCRIPTION:For more information\, contact info@iASK-CAB.org
URL:https://www.iask-cab.org/event/iask-meeting/
CATEGORIES:iASK
ORGANIZER;CN="iASK CAB":MAILTO:info@iask-cab.org
END:VEVENT
BEGIN:VEVENT
DTSTART;TZID=America/New_York:20180923T090000
DTEND;TZID=America/New_York:20180923T133000
DTSTAMP:20260425T193233
CREATED:20180913T014022Z
LAST-MODIFIED:20180913T014022Z
UID:1462-1537693200-1537709400@www.iask-cab.org
SUMMARY:Rx Drug Take Back
DESCRIPTION:
URL:https://www.iask-cab.org/event/rx-drug-take-back/
LOCATION:Main Street School
CATEGORIES:iASK
ORGANIZER;CN="iASK CAB":MAILTO:info@iask-cab.org
END:VEVENT
BEGIN:VEVENT
DTSTART;TZID=America/New_York:20180508T190000
DTEND;TZID=America/New_York:20180508T210000
DTSTAMP:20260425T193233
CREATED:20180217T202912Z
LAST-MODIFIED:20180508T182858Z
UID:1311-1525806000-1525813200@www.iask-cab.org
SUMMARY:The Science of How Addictive Substances Affect the Teen Brain
DESCRIPTION:Presented by Dr. Stephen Dewey\, the first part of the evening will use actual PET images to show how alcohol and drug use affects the developing adolescent brain. The discussion will include information about energy drinks\, caffeine\, vaping\, marijuana\, prescription medications and other drugs. Learn the science! Register now. \n \n  \n  \n 
URL:https://www.iask-cab.org/event/1311/
LOCATION:Dows Lane School\, 6 Dows Lane\, Irvington \, NY
CATEGORIES:iASK
ORGANIZER;CN="iASK CAB":MAILTO:info@iask-cab.org
END:VEVENT
BEGIN:VEVENT
DTSTART;TZID=America/New_York:20180428T100000
DTEND;TZID=America/New_York:20180428T140000
DTSTAMP:20260425T193233
CREATED:20170711T173209Z
LAST-MODIFIED:20180413T002115Z
UID:1066-1524909600-1524924000@www.iask-cab.org
SUMMARY:Prescription Drug Take Back
DESCRIPTION:
URL:https://www.iask-cab.org/event/prescription-drug-take-back-8/
LOCATION:Town Hall\, United States
CATEGORIES:iASK
ORGANIZER;CN="iASK CAB":MAILTO:info@iask-cab.org
END:VEVENT
BEGIN:VEVENT
DTSTART;TZID=America/New_York:20180120T100000
DTEND;TZID=America/New_York:20180120T140000
DTSTAMP:20260425T193233
CREATED:20170711T173132Z
LAST-MODIFIED:20180106T000622Z
UID:1064-1516442400-1516456800@www.iask-cab.org
SUMMARY:Prescription Drug Take Back
DESCRIPTION:
URL:https://www.iask-cab.org/event/prescription-drug-take-back-7/
LOCATION:Town Hall\, United States
CATEGORIES:iASK
ORGANIZER;CN="iASK CAB":MAILTO:info@iask-cab.org
END:VEVENT
BEGIN:VEVENT
DTSTART;TZID=America/New_York:20171202T100000
DTEND;TZID=America/New_York:20171202T140000
DTSTAMP:20260425T193233
CREATED:20171120T224700Z
LAST-MODIFIED:20171120T224700Z
UID:1247-1512208800-1512223200@www.iask-cab.org
SUMMARY:Prescription Drug Take Back
DESCRIPTION:Turn in your unused or expired prescription medication for safe disposal.  \nSaturday\, December 2\, 10am – 2pm\nIrvington Police Department\, 85 Main St. \nSteps to Take\nStep 1: Collect unused or expired medication from your home.\n\n\n\n Allowed \nPrescription Medications \nPrescription Ointments \nPrescription Patches \nOver the Counter Medications \nVitamins \nSamples \nPet Medications \n\n\n Prohibited \nSharps (needles) \nThermometers \nHydrogen Peroxide \nAerosol Cans \nInhalers \nLiquids \nNon-prescription Ointments \n\n\n\nStep 2\nRemove any personal identifying information\, such as patient names and doctor names.\n\nStep 3\nBring to collection site and place in disposal unit.\n\n  \n\nUnable to attend? There are many permanent drug disposal locations throughout Westchester. Please consider dropping off your unused/expired medications at one of the following locations:
URL:https://www.iask-cab.org/event/prescription-drug-take-back-9/
LOCATION:Irvington Police Department\, 85 Main St.\, Irvington \, New York
ORGANIZER;CN="iASK CAB":MAILTO:info@iask-cab.org
END:VEVENT
BEGIN:VEVENT
DTSTART;TZID=America/New_York:20171028T100000
DTEND;TZID=America/New_York:20171028T140000
DTSTAMP:20260425T193233
CREATED:20170711T173035Z
LAST-MODIFIED:20171020T005801Z
UID:1062-1509184800-1509199200@www.iask-cab.org
SUMMARY:Prescription Drug Take Back
DESCRIPTION:Unable to attend? Visit one of these permanent locations in Westchester:
URL:https://www.iask-cab.org/event/prescription-drug-take-back-6/
LOCATION:Town Hall\, United States
CATEGORIES:iASK
ORGANIZER;CN="iASK CAB":MAILTO:info@iask-cab.org
END:VEVENT
BEGIN:VEVENT
DTSTART;TZID=America/New_York:20170927T190000
DTEND;TZID=America/New_York:20170927T203000
DTSTAMP:20260425T193233
CREATED:20170912T211504Z
LAST-MODIFIED:20170912T211504Z
UID:1132-1506538800-1506544200@www.iask-cab.org
SUMMARY:Drug & Alcohol Use: An Irvington Perspective
DESCRIPTION:
URL:https://www.iask-cab.org/event/drug-alcohol-use-an-irvington-perspective/
LOCATION:Irvington Town Hall Theater\, 85 Main St.\, Irvington \, NY\, 10533\, United States
CATEGORIES:iASK
ORGANIZER;CN="iASK CAB":MAILTO:info@iask-cab.org
END:VEVENT
BEGIN:VEVENT
DTSTART;TZID=America/New_York:20170613T080000
DTEND;TZID=America/New_York:20170613T090000
DTSTAMP:20260425T193233
CREATED:20160902T205219Z
LAST-MODIFIED:20160902T205219Z
UID:612-1497340800-1497344400@www.iask-cab.org
SUMMARY:iASK CAB Meeting
DESCRIPTION:Monthly meeting of community members to promote the prevention of underage drinking and drug use among youth. For more information contact info@iask-cab.org.
URL:https://www.iask-cab.org/event/iask-cab-meeting-10/
ORGANIZER;CN="iASK CAB":MAILTO:info@iask-cab.org
END:VEVENT
BEGIN:VEVENT
DTSTART;TZID=America/New_York:20170606T080000
DTEND;TZID=America/New_York:20170606T080000
DTSTAMP:20260425T193233
CREATED:20160902T212028Z
LAST-MODIFIED:20160912T164236Z
UID:633-1496736000-1496736000@www.iask-cab.org
SUMMARY:Community Advisory Board Meeting
DESCRIPTION:The CAB holds monthly meetings which include IMS and IHS teens\, and members from various groups in our community. If you are a teen or adult and would like to attend\, please email our co-chairs\, Allyson Felix – allysonfk5@gmail.com or Tanya Hunt – bghunt23@optonline.net for more information!
URL:https://www.iask-cab.org/event/community-advisory-board-meeting-9/
ORGANIZER;CN="iASK CAB":MAILTO:info@iask-cab.org
END:VEVENT
BEGIN:VEVENT
DTSTART;TZID=America/New_York:20170603T100000
DTEND;TZID=America/New_York:20170603T140000
DTSTAMP:20260425T193233
CREATED:20170412T230412Z
LAST-MODIFIED:20170412T230412Z
UID:858-1496484000-1496498400@www.iask-cab.org
SUMMARY:Prescription Drug Take Back
DESCRIPTION:Bring expired and/or unused prescription drugs for safe disposal.
URL:https://www.iask-cab.org/event/prescription-drug-take-back-5/
LOCATION:Town Hall\, United States
ORGANIZER;CN="iASK CAB":MAILTO:info@iask-cab.org
END:VEVENT
BEGIN:VEVENT
DTSTART;TZID=America/New_York:20170523T080000
DTEND;TZID=America/New_York:20170523T090000
DTSTAMP:20260425T193233
CREATED:20160902T205149Z
LAST-MODIFIED:20160902T205149Z
UID:610-1495526400-1495530000@www.iask-cab.org
SUMMARY:iASK CAB Meeting
DESCRIPTION:Monthly meeting of community members to promote the prevention of underage drinking and drug use among youth. For more information contact info@iask-cab.org.
URL:https://www.iask-cab.org/event/iask-cab-meeting-9/
ORGANIZER;CN="iASK CAB":MAILTO:info@iask-cab.org
END:VEVENT
BEGIN:VEVENT
DTSTART;TZID=America/New_York:20170516T080000
DTEND;TZID=America/New_York:20170516T090000
DTSTAMP:20260425T193233
CREATED:20160902T211940Z
LAST-MODIFIED:20160912T164304Z
UID:631-1494921600-1494925200@www.iask-cab.org
SUMMARY:Community Advisory Board
DESCRIPTION:The CAB holds monthly meetings which include IMS and IHS teens\, and members from various groups in our community. If you are a teen or adult and would like to attend\, please email our co-chairs\, Allyson Felix – allysonfk5@gmail.com or Tanya Hunt – bghunt23@optonline.net for more information!
URL:https://www.iask-cab.org/event/community-advisory-board/
ORGANIZER;CN="iASK CAB":MAILTO:info@iask-cab.org
END:VEVENT
BEGIN:VEVENT
DTSTART;TZID=America/New_York:20170429T100000
DTEND;TZID=America/New_York:20170429T140000
DTSTAMP:20260425T193233
CREATED:20170412T230235Z
LAST-MODIFIED:20170425T201709Z
UID:856-1493460000-1493474400@www.iask-cab.org
SUMMARY:Prescription Drug Take Back
DESCRIPTION:Bring expired and/or unused prescription drugs for safe disposal.
URL:https://www.iask-cab.org/event/prescription-drug-take-back-4/
LOCATION:Town Hall\, United States
ORGANIZER;CN="iASK CAB":MAILTO:info@iask-cab.org
END:VEVENT
BEGIN:VEVENT
DTSTART;TZID=America/New_York:20170425T080000
DTEND;TZID=America/New_York:20170425T090000
DTSTAMP:20260425T193233
CREATED:20160902T205112Z
LAST-MODIFIED:20160902T205112Z
UID:608-1493107200-1493110800@www.iask-cab.org
SUMMARY:iASK CAB Meeting
DESCRIPTION:Monthly meeting of community members to promote the prevention of underage drinking and drug use among youth. For more information contact info@iask-cab.org.
URL:https://www.iask-cab.org/event/iask-cab-meeting-8/
ORGANIZER;CN="iASK CAB":MAILTO:info@iask-cab.org
END:VEVENT
BEGIN:VEVENT
DTSTART;TZID=America/New_York:20170423T090000
DTEND;TZID=America/New_York:20170423T140000
DTSTAMP:20260425T193233
CREATED:20170309T235958Z
LAST-MODIFIED:20170309T235958Z
UID:802-1492938000-1492956000@www.iask-cab.org
SUMMARY:COLOR FEST 2017
DESCRIPTION:Register Now
URL:https://www.iask-cab.org/event/color-fest-2017/
LOCATION:Scenic Hudson Park\, 29 Bridge St.\, Irvington\, NY\, 10533\, United States
END:VEVENT
BEGIN:VEVENT
DTSTART;TZID=America/New_York:20170420T100000
DTEND;TZID=America/New_York:20170420T180000
DTSTAMP:20260425T193233
CREATED:20170407T214755Z
LAST-MODIFIED:20170407T215449Z
UID:850-1492682400-1492711200@www.iask-cab.org
SUMMARY:Healthy Teen Brain Day
DESCRIPTION:Celebrate Healthy Teen Brain Day With a Walk Through a Giant Brain! Join with coalitions and student leaders throughout Westchester to celebrate the majority of young people who are making the brain-healthy choice to remain marijuana free.
URL:https://www.iask-cab.org/event/healthy-teen-brain-day/
LOCATION:Maria Ferari Children’s Hospital\, 100 Woods Rd.\, Valhalla\, NY
END:VEVENT
BEGIN:VEVENT
DTSTART;TZID=America/New_York:20170418T080000
DTEND;TZID=America/New_York:20170418T090000
DTSTAMP:20260425T193233
CREATED:20160902T211803Z
LAST-MODIFIED:20160912T164350Z
UID:629-1492502400-1492506000@www.iask-cab.org
SUMMARY:Community Advisory Board Meeting
DESCRIPTION:The CAB holds monthly meetings which include IMS and IHS teens\, and members from various groups in our community. If you are a teen or adult and would like to attend\, please email our co-chairs\, Allyson Felix – allysonfk5@gmail.com or Tanya Hunt – bghunt23@optonline.net for more information!
URL:https://www.iask-cab.org/event/community-advisory-board-meeting-8/
ORGANIZER;CN="iASK CAB":MAILTO:info@iask-cab.org
END:VEVENT
BEGIN:VEVENT
DTSTART;TZID=America/New_York:20170328T080000
DTEND;TZID=America/New_York:20170328T090000
DTSTAMP:20260425T193233
CREATED:20160902T205024Z
LAST-MODIFIED:20160902T205024Z
UID:606-1490688000-1490691600@www.iask-cab.org
SUMMARY:iASK CAB Meeting
DESCRIPTION:Monthly meeting of community members to promote the prevention of underage drinking and drug use among youth. For more information contact info@iask-cab.org.
URL:https://www.iask-cab.org/event/iask-cab-meeting-7/
ORGANIZER;CN="iASK CAB":MAILTO:info@iask-cab.org
END:VEVENT
BEGIN:VEVENT
DTSTART;TZID=America/New_York:20170321T080000
DTEND;TZID=America/New_York:20170321T090000
DTSTAMP:20260425T193233
CREATED:20160902T211721Z
LAST-MODIFIED:20160912T164358Z
UID:627-1490083200-1490086800@www.iask-cab.org
SUMMARY:Community Advisory Board Meeting
DESCRIPTION:The CAB holds monthly meetings which include IMS and IHS teens\, and members from various groups in our community. If you are a teen or adult and would like to attend\, please email our co-chairs\, Allyson Felix – allysonfk5@gmail.com or Tanya Hunt – bghunt23@optonline.net for more information!
URL:https://www.iask-cab.org/event/community-advisory-board-meeting-7/
ORGANIZER;CN="iASK CAB":MAILTO:info@iask-cab.org
END:VEVENT
BEGIN:VEVENT
DTSTART;TZID=America/New_York:20170304T100000
DTEND;TZID=America/New_York:20170304T140000
DTSTAMP:20260425T193233
CREATED:20170223T143829Z
LAST-MODIFIED:20170223T143829Z
UID:790-1488621600-1488636000@www.iask-cab.org
SUMMARY:Prescription Drug Take-Back
DESCRIPTION:Bring expired and/or unused prescription drugs for safe disposal.
URL:https://www.iask-cab.org/event/prescription-drug-take-back-3/
LOCATION:Town Hall\, United States
ORGANIZER;CN="iASK CAB":MAILTO:info@iask-cab.org
END:VEVENT
BEGIN:VEVENT
DTSTART;TZID=America/New_York:20170228T190000
DTEND;TZID=America/New_York:20170228T203000
DTSTAMP:20260425T193233
CREATED:20170217T023212Z
LAST-MODIFIED:20170217T023212Z
UID:779-1488308400-1488313800@www.iask-cab.org
SUMMARY:Just Be Uplifting
DESCRIPTION:Join us for acclaimed speaker Harriet Turk’s interactive presentation about practical strategies for connecting with your teenagers\, ages 13-19. Register now. 
URL:https://www.iask-cab.org/event/just-be-uplifting/
LOCATION:Main Street School
ORGANIZER;CN="iASK CAB":MAILTO:info@iask-cab.org
END:VEVENT
BEGIN:VEVENT
DTSTART;TZID=America/New_York:20170228T080000
DTEND;TZID=America/New_York:20170228T090000
DTSTAMP:20260425T193233
CREATED:20160902T204911Z
LAST-MODIFIED:20160902T204911Z
UID:604-1488268800-1488272400@www.iask-cab.org
SUMMARY:iASK CAB Meeting
DESCRIPTION:Monthly meeting of community members to promote the prevention of underage drinking and drug use among youth. For more information contact info@iask-cab.org.
URL:https://www.iask-cab.org/event/iask-cab-meeting-6/
ORGANIZER;CN="iASK CAB":MAILTO:info@iask-cab.org
END:VEVENT
BEGIN:VEVENT
DTSTART;TZID=America/New_York:20170214T080000
DTEND;TZID=America/New_York:20170214T090000
DTSTAMP:20260425T193233
CREATED:20160902T211642Z
LAST-MODIFIED:20160912T164649Z
UID:625-1487059200-1487062800@www.iask-cab.org
SUMMARY:Community Advisory Board Meeting
DESCRIPTION:The CAB holds monthly meetings which include IMS and IHS teens\, and members from various groups in our community. If you are a teen or adult and would like to attend\, please email our co-chairs\, Allyson Felix – allysonfk5@gmail.com or Tanya Hunt – bghunt23@optonline.net for more information!
URL:https://www.iask-cab.org/event/community-advisory-board-meeting-6/
ORGANIZER;CN="iASK CAB":MAILTO:info@iask-cab.org
END:VEVENT
BEGIN:VEVENT
DTSTART;TZID=America/New_York:20170117T080000
DTEND;TZID=America/New_York:20170117T090000
DTSTAMP:20260425T193233
CREATED:20160902T204828Z
LAST-MODIFIED:20160902T204828Z
UID:602-1484640000-1484643600@www.iask-cab.org
SUMMARY:iASK CAB Meeting
DESCRIPTION:Monthly meeting of community members to promote the prevention of underage drinking and drug use among youth. For more information contact info@iask-cab.org.
URL:https://www.iask-cab.org/event/iask-cab-meeting-5/
ORGANIZER;CN="iASK CAB":MAILTO:info@iask-cab.org
END:VEVENT
BEGIN:VEVENT
DTSTART;TZID=America/New_York:20170110T080000
DTEND;TZID=America/New_York:20170110T090000
DTSTAMP:20260425T193233
CREATED:20160902T211610Z
LAST-MODIFIED:20160912T164718Z
UID:623-1484035200-1484038800@www.iask-cab.org
SUMMARY:Community Advisory Board Meeting
DESCRIPTION:The CAB holds monthly meetings which include IMS and IHS teens\, and members from various groups in our community. If you are a teen or adult and would like to attend\, please email our co-chairs\, Allyson Felix – allysonfk5@gmail.com or Tanya Hunt – bghunt23@optonline.net for more information!
URL:https://www.iask-cab.org/event/community-advisory-board-meeting-5/
ORGANIZER;CN="iASK CAB":MAILTO:info@iask-cab.org
END:VEVENT
END:VCALENDAR